BEGIN:VCALENDAR
VERSION:2.0
PRODID:-//Windsor Hackforge - ECPv6.15.20//NONSGML v1.0//EN
CALSCALE:GREGORIAN
METHOD:PUBLISH
X-ORIGINAL-URL:https://www.hackf.org
X-WR-CALDESC:Events for Windsor Hackforge
REFRESH-INTERVAL;VALUE=DURATION:PT1H
X-Robots-Tag:noindex
X-PUBLISHED-TTL:PT1H
BEGIN:VTIMEZONE
TZID:America/Toronto
BEGIN:DAYLIGHT
TZOFFSETFROM:-0500
TZOFFSETTO:-0400
TZNAME:EDT
DTSTART:20220313T070000
END:DAYLIGHT
BEGIN:STANDARD
TZOFFSETFROM:-0400
TZOFFSETTO:-0500
TZNAME:EST
DTSTART:20221106T060000
END:STANDARD
BEGIN:DAYLIGHT
TZOFFSETFROM:-0500
TZOFFSETTO:-0400
TZNAME:EDT
DTSTART:20230312T070000
END:DAYLIGHT
BEGIN:STANDARD
TZOFFSETFROM:-0400
TZOFFSETTO:-0500
TZNAME:EST
DTSTART:20231105T060000
END:STANDARD
BEGIN:DAYLIGHT
TZOFFSETFROM:-0500
TZOFFSETTO:-0400
TZNAME:EDT
DTSTART:20240310T070000
END:DAYLIGHT
BEGIN:STANDARD
TZOFFSETFROM:-0400
TZOFFSETTO:-0500
TZNAME:EST
DTSTART:20241103T060000
END:STANDARD
BEGIN:DAYLIGHT
TZOFFSETFROM:-0500
TZOFFSETTO:-0400
TZNAME:EDT
DTSTART:20250309T070000
END:DAYLIGHT
BEGIN:STANDARD
TZOFFSETFROM:-0400
TZOFFSETTO:-0500
TZNAME:EST
DTSTART:20251102T060000
END:STANDARD
END:VTIMEZONE
BEGIN:VEVENT
DTSTART;TZID=America/Toronto:20240511T140000
DTEND;TZID=America/Toronto:20240511T160000
DTSTAMP:20260423T103730
CREATED:20240425T173255Z
LAST-MODIFIED:20240426T133249Z
UID:1555-1715436000-1715443200@www.hackf.org
SUMMARY:Border City Data: Hack the Afternoon!
DESCRIPTION:📍Hackforge HQ (300 Ouellette Ave\, Unit 210)👥In-person Only \n\n\n\nBring your data\, your computer\, and your problem! Border City Data is offering a drop-in Hack the Afternoon event where attendees can receive help with their data issues. \n\n\n\nDatabase query not returning the desired result? Unsure how to visualize a data set? Trouble scraping info from a website? We can help! \n\n\n\nWe’re not wizards and can’t do your work for you\, but if you bring your assets and a willingness to learn\, we can assist you in overcoming obstacles. \n\n\n\n📢 This event is in-person only and will take place at Hackforge HQ (300 Ouellette Ave\, Unit 210).
URL:https://www.hackf.org/event/border-city-data-hack-the-afternoon/
LOCATION:Fogolar Furlan\, 1800 North Service Rd\, Windsor\, Ontario\, N8W 1Y3\, Canada
CATEGORIES:In-Person
END:VEVENT
BEGIN:VEVENT
DTSTART;TZID=America/Toronto:20240428T100000
DTEND;TZID=America/Toronto:20240428T120000
DTSTAMP:20260423T103730
CREATED:20240402T031136Z
LAST-MODIFIED:20240409T190005Z
UID:1453-1714298400-1714305600@www.hackf.org
SUMMARY:Earth Day Community Tree Planting
DESCRIPTION:📍Windsor\, Ganatchio Trail – Little River Ext\, Windsor\, ON N8P\, Canada👥 In-Person Only \n\n\n\nHackforge is putting together a Green Team for ERCA’s annual Earth Day Community Tree Planting event\, and we’d love for you to join us! \n\n\n\nThere is no cost to attend\, and no prior tree-planting experience is required. Email info@hackf.org to register for this event. We can set up carpooling \n\n\n\nDate & Time: Apr 28\, 2024\, 10:00 a.m. – 12:00 p.m. \n\n\n\nLocation: Ganatchio Trail – Little River Ext\, Windsor\, ON N8P\, Canada \n\n\n\nMore details: https://www.essexregionconservation.ca/event-details/earth-day-community-tree-planting-2
URL:https://www.hackf.org/event/earth-day-community-tree-planting/
LOCATION:Ganatchio Trail\, Tecumseh\, Little River Ext\, Windsor\, Ontario\, ON N8P\, Canada
CATEGORIES:In-Person
END:VEVENT
BEGIN:VEVENT
DTSTART;TZID=America/Toronto:20240418T180000
DTEND;TZID=America/Toronto:20240418T193000
DTSTAMP:20260423T103730
CREATED:20240403T025101Z
LAST-MODIFIED:20240403T025101Z
UID:1476-1713463200-1713468600@www.hackf.org
SUMMARY:OSM Field Mapping
DESCRIPTION:📍Sandwich Town – Meet in front of the John Muir Branch of the Windsor Public Library (363 Mill St.)👥In-person Only \n\n\n\nNow that spring is here we’re excited to get back outside for some OpenStreetMap field mapping! \n\n\n\nThis time we’re going to cover Sandwich Town in Windsor’s west end. We’ll meet at the John Muir Branch of the Windsor Public Library (363 Mill St.) for 6pm\, and from there will explore one of the oldest settlements in Ontario. This neighbourhood features parks\, commercial establishments\, and infrastructure that have yet to be comprehensively mapped in OSM – so we’ll be getting as much of that as we can logged into the database! \n\n\n\nBe sure to download Every Door (https://every-door.wp-content/) and sign in using your OSM credentials ahead of time\, so we can make the most of our mapping time. \n\n\n\n📢📢 This is a “weather permitting” event! Please keep an eye on our socials for any updates\, and make sure to register through the Hackforge website – we’ll be contacting registrants on the day of the event with weather updates. \n\n\n\n📅 Thursday\, April 18th \n\n\n\n⏲ 6 – 7:30 pm \n\n\n\n📍 Sandwich Town – Meet in front of the John Muir Branch of the Windsor Public Library (363 Mill St.)
URL:https://www.hackf.org/event/osm-field-mapping/
LOCATION:Ontario
CATEGORIES:In-Person
END:VEVENT
BEGIN:VEVENT
DTSTART;TZID=America/Toronto:20240229T120000
DTEND;TZID=America/Toronto:20240229T150000
DTSTAMP:20260423T103730
CREATED:20240130T115410Z
LAST-MODIFIED:20240227T034800Z
UID:1322-1709208000-1709218800@www.hackf.org
SUMMARY:Leap Year Board Game Night
DESCRIPTION:📍Hackforge HQ (300 Ouellette Ave\, Unit 210)👥In-person Only \n\n\n\nWe’ve decided to make the most of the extra day\, and will be spending the evening of February 29th playing board games! \n\n\n\nFeel free to bring your favourite(s)\, and we’ll set up several small groups or one big one – whatever suits us best! There is no cost to attend\, but this is a 16+ event. Come anytime between 5 and 8pm (we might go later\, too! All depends on how many people we have and how many games we end up playing). See you then!
URL:https://www.hackf.org/event/leap-year-board-game-night/
LOCATION:Fogolar Furlan\, 1800 North Service Rd\, Windsor\, Ontario\, N8W 1Y3\, Canada
CATEGORIES:In-Person
END:VEVENT
BEGIN:VEVENT
DTSTART;TZID=America/Toronto:20240212T140000
DTEND;TZID=America/Toronto:20240212T160000
DTSTAMP:20260423T103730
CREATED:20240130T111919Z
LAST-MODIFIED:20240206T191933Z
UID:1314-1707746400-1707753600@www.hackf.org
SUMMARY:Linux Systemd & Podman Quadlet Workshop
DESCRIPTION:📍Hackforge HQ\, (300 Ouellette Ave\, Unit 210)👥In-person Only \n\n\n\nWelcome to the First Meetup of the Year: Linux Systemd & Podman Quadlet Workshop! \n\n\n\nWe’re thrilled to kick off the new year with the inaugural meetup of the Hackforge Linux User Group! Join us as we embark on an enlightening journey into the basics of systemd and the exciting world of Podman Quadlet\, all through engaging hands-on activities. \n\n\n\nEvent Details: \n\n\n\n\nDate: Monday February 12th\, 2024\n\n\n\nTime: 7pm – 9pm\n\n\n\nLocation: 300 Ouellette Ave\, Unity 210 Windsor\, Ontario N9A 7B4\n\n\n\n\nAgenda: \n\n\n\n\nUnderstanding systemd Basics: Delve into the basics of systemd services\, the cornerstone of modern Linux init systems.\n\n\n\nIntroduction to Podman Quadlet: Explore the innovative features of Podman Quadlet\, a versatile tool for managing containers as systemd services.\n\n\n\n\nFollow Along with openSUSE Tumbleweed or Compatible Distros: \n\n\n\nFor those eager to participate hands-on\, we recommend configuring a virtual machine (VM) using openSUSE Tumbleweed. Equipped with the latest version of Podman\, this setup ensures seamless synchronization with our workshop content. Alternatively\, any distribution featuring Podman version `4.8.3` or higher will also be compatible for following along. \n\n\n\nSETUP INSTRUCTIONS \n\n\n\nDon’t hesitate to contact Randy via the Hackforge Discord if you need any help setting up your VM. He’s here to assist you every step of the way and ensure you’re fully prepared for the workshop ahead. \n\n\n\nDon’t miss the opportunity to be part of our inaugural meetup of the year and connect with fellow Linux enthusiasts. Whether you’re a seasoned professional or just starting your Linux journey\, there’s something for everyone at our workshop.
URL:https://www.hackf.org/event/linux-systemd-podman-quadlet-workshop/
LOCATION:Fogolar Furlan\, 1800 North Service Rd\, Windsor\, Ontario\, N8W 1Y3\, Canada
CATEGORIES:In-Person
END:VEVENT
BEGIN:VEVENT
DTSTART;TZID=America/Toronto:20240209T130000
DTEND;TZID=America/Toronto:20240209T150000
DTSTAMP:20260423T103730
CREATED:20240130T104333Z
LAST-MODIFIED:20240131T062132Z
UID:1308-1707483600-1707490800@www.hackf.org
SUMMARY:Open Data Pub Night
DESCRIPTION:📍Hackforge HQ (300 Ouellette Ave\, Unit 210)👥In-person Only \n\n\n\nWindsor Hackforge and the Canadian Open Data Society (CODS) are holding a casual get-together at Craftheads Brewing on Friday\, February 9th. \n\n\n\nCODS is a national collective of open data supporters who strive to promote and support relevant initiatives across the country. As part of their mission to broaden public discourse on Open Data\, they’re working with Hackforge to present this meetup. \n\n\n\nAttendees can expect semi-structured conversation related to the role open data plays in the Canadian tech ecosystem\, information on CODS and their mission\, and the opportunity to converse with data professionals. Refreshments will be available to purchase from the bar. \n\n\n\nWhere: Craftheads Brewing (89 University Ave W\, SE corner of University and Pelissier) \n\n\n\nWhen: Friday\, February 9th\, 6 – 8 pm \n\n\n\nPlease note that this is an 19+\, in-person only event
URL:https://www.hackf.org/event/open-data-pub-night/
LOCATION:Fogolar Furlan\, 1800 North Service Rd\, Windsor\, Ontario\, N8W 1Y3\, Canada
CATEGORIES:In-Person
END:VEVENT
BEGIN:VEVENT
DTSTART;TZID=America/Toronto:20231202T070000
DTEND;TZID=America/Toronto:20231202T100000
DTSTAMP:20260423T103730
CREATED:20231123T030532Z
LAST-MODIFIED:20231123T030532Z
UID:1231-1701500400-1701511200@www.hackf.org
SUMMARY:Video Game Swap
DESCRIPTION:📍Hackforge HQ (300 Ouellette Ave\, Unit 210)👥In-person Only \n\n\n\nIf you have some finished video games you’d like to trade in for something new (to you!) come out to Hackforge’s Video Game Swap on Saturday\, December 2! \n\n\n\nRunning from 12 – 3pm\, this free\, in-person event is a chance to practice your bartering skills while refreshing your game collection. All systems are welcome\, and we’ll even have some stations set up to play/practice/test out everyone’s wares! \n\n\n\nThis event will also include special guests who are filming a TV pilot on video games and the people who love them – participation in this part of the event is completely optional though\, so don’t let it put you off! \n\n\n\nPlease note that while we do welcome those under 16 years of age to attend\, they must be accompanied by a parent or guardian.
URL:https://www.hackf.org/event/video-game-swap/
LOCATION:Windsor Hackforge\, 300 Ouellette Ave\, Unit 210\, Windsor\, Ontario\, N9A7B4\, Canada
CATEGORIES:In-Person
END:VEVENT
BEGIN:VEVENT
DTSTART;TZID=America/Toronto:20231129T140000
DTEND;TZID=America/Toronto:20231129T160000
DTSTAMP:20260423T103730
CREATED:20231123T025246Z
LAST-MODIFIED:20231123T025246Z
UID:1227-1701266400-1701273600@www.hackf.org
SUMMARY:Linux Users Group Meetup
DESCRIPTION:📍 Hackforge HQ (300 Ouellette Ave\, Unit 210)👥In-person Only \n\n\n\nCome be a part of our upcoming Linux Users Group social gathering! This month\, we’re delving into the fascinating realm of self-hosting and the quest for digital independence. Our discussions will center around key topics such as Bitwarden\, Nextcloud\, network administration\, cybersecurity\, VPNs\, and much more. Join the conversation as we navigate the self-hosting landscape together!
URL:https://www.hackf.org/event/linux-users-group-meetup/
LOCATION:Windsor Hackforge\, 300 Ouellette Ave\, Unit 210\, Windsor\, Ontario\, N9A7B4\, Canada
CATEGORIES:In-Person
END:VEVENT
BEGIN:VEVENT
DTSTART;TZID=America/Toronto:20231117T140000
DTEND;TZID=America/Toronto:20231117T160000
DTSTAMP:20260423T103730
CREATED:20231101T203638Z
LAST-MODIFIED:20231101T203638Z
UID:987-1700229600-1700236800@www.hackf.org
SUMMARY:End of Year Mixer
DESCRIPTION:Get ready to party at our End of Year Mixer! It’s a fun\, laid-back gathering where we’ll grab a beer and celebrate the highlights of the year\, while we hang out with old pals and make some new friends. \n\n\n\nJoin us for good vibes\, laughter\, and a toast to what’s next in the year ahead. Whether you’re new to Hackforge or have been around for a while\, if you’re interested in tech this is a relaxed get-together you won’t want to miss! \n\n\n\nLocation: Craft Heads Brewing\, 89 University Ave. W (SE corner of University and Pelissier)
URL:https://www.hackf.org/event/end-of-year-mixer/
LOCATION:Craftheads Brewing\, 89 University Ave. W\, Windsor\, ON\, Canada
CATEGORIES:In-Person
ATTACH;FMTTYPE=image/png:https://www.hackf.org/wp-content/uploads/2023/11/1.png
END:VEVENT
BEGIN:VEVENT
DTSTART;TZID=America/Toronto:20230919T150000
DTEND;TZID=America/Toronto:20230919T170000
DTSTAMP:20260423T103730
CREATED:20230914T224318Z
LAST-MODIFIED:20230914T230024Z
UID:831-1695135600-1695142800@www.hackf.org
SUMMARY:Linux Users Group September Meetup
DESCRIPTION:Come hangout and chat about all things Linux and open source in this month’s Linux Users Group Meetup! Hackforge is a casual\, welcoming space\, and everyone is invited to join this event\, regardless of experience level. \n\n\n\nThis monthly event is a great chance to meet other Linux enthusiasts\, get answers to your Linux questions\, and to learn more about the world of open source operating systems. \n\n\n\nTo join the conversation outside of our monthly events\, join the Hackforge discord and visit the #linux-users-group channel.
URL:https://www.hackf.org/event/linux-users-group-september-meetup/
LOCATION:Fogolar Furlan\, 1800 North Service Rd\, Windsor\, Ontario\, N8W 1Y3\, Canada
CATEGORIES:In-Person
ATTACH;FMTTYPE=image/png:https://www.hackf.org/wp-content/uploads/2023/09/Linux-users-group-HF.png
END:VEVENT
END:VCALENDAR