BEGIN:VCALENDAR
VERSION:2.0
PRODID:-//Windsor Hackforge - ECPv6.15.20//NONSGML v1.0//EN
CALSCALE:GREGORIAN
METHOD:PUBLISH
X-WR-CALNAME:Windsor Hackforge
X-ORIGINAL-URL:https://www.hackf.org
X-WR-CALDESC:Events for Windsor Hackforge
REFRESH-INTERVAL;VALUE=DURATION:PT1H
X-Robots-Tag:noindex
X-PUBLISHED-TTL:PT1H
BEGIN:VTIMEZONE
TZID:America/Toronto
BEGIN:DAYLIGHT
TZOFFSETFROM:-0500
TZOFFSETTO:-0400
TZNAME:EDT
DTSTART:20250309T070000
END:DAYLIGHT
BEGIN:STANDARD
TZOFFSETFROM:-0400
TZOFFSETTO:-0500
TZNAME:EST
DTSTART:20251102T060000
END:STANDARD
BEGIN:DAYLIGHT
TZOFFSETFROM:-0500
TZOFFSETTO:-0400
TZNAME:EDT
DTSTART:20260308T070000
END:DAYLIGHT
BEGIN:STANDARD
TZOFFSETFROM:-0400
TZOFFSETTO:-0500
TZNAME:EST
DTSTART:20261101T060000
END:STANDARD
BEGIN:DAYLIGHT
TZOFFSETFROM:-0500
TZOFFSETTO:-0400
TZNAME:EDT
DTSTART:20270314T070000
END:DAYLIGHT
BEGIN:STANDARD
TZOFFSETFROM:-0400
TZOFFSETTO:-0500
TZNAME:EST
DTSTART:20271107T060000
END:STANDARD
END:VTIMEZONE
BEGIN:VEVENT
DTSTART;TZID=America/Toronto:20260130T160000
DTEND;TZID=America/Toronto:20260130T190000
DTSTAMP:20260423T202023
CREATED:20251231T231740Z
LAST-MODIFIED:20260129T185717Z
UID:3785-1769788800-1769799600@www.hackf.org
SUMMARY:Global Game Jam Meetup-Day 2
DESCRIPTION:📍 Hackforge HQ (300 Ouellette Ave\, Unit 210) & Online💻👥 Hybrid💲 Free \n\n\n\nHybrid work hours during Global Game Jam 2026 are open\, flexible sessions set aside for participants to spend time working on their games together in a shared space\, or online via Discord. These hours are all about giving you the room\, time\, and community to collaborate\, experiment\, and make progress on your project. \n\n\n\nDuring work hours\, you’re encouraged to: \n\n\n\n\nWork actively on your game\, either solo or with your team\n\n\n\nCollaborate\, brainstorm\, test ideas\, and share feedback with other jammers\n\n\n\nUse the space as a focused\, supportive co-working environment\n\n\n\n\nStaff will be on-site to open the space and help with basic needs\, but these sessions are intentionally unstructured. There won’t be scheduled activities\, presentations\, or facilitated programming during work hours and staff will not be casually available\, as they will be busy completing work. This time is yours to use in whatever way best supports your creative process. \n\n\n\nIf you’re interested in talks\, workshops\, or guided events\, please see our other events\, and consider joining our Discord or subscribing to our newsletter at hackf.org/join-our-newsletter. In-person work hours are simply a chance to come together\, settle in\, and build something great. \n\n\n\n📆 Friday\, Jan. 30🕦4-7 PM📍Hackforge HQ (300 Ouellette Ave. Unit 210) & Online via Discord \n\n\n\nRegister for Global Game Jam at globalgamejam.org
URL:https://www.hackf.org/event/global-game-jam-meetup-4-hybrid/
LOCATION:Fogolar Furlan\, 1800 North Service Rd\, Windsor\, Ontario\, N8W 1Y3\, Canada
CATEGORIES:Hybrid
ATTACH;FMTTYPE=image/png:https://www.hackf.org/wp-content/uploads/2025/12/GGJ-Day-4-750-x-250-px.png
END:VEVENT
BEGIN:VEVENT
DTSTART;TZID=America/Toronto:20260130T170000
DTEND;TZID=America/Toronto:20260130T190000
DTSTAMP:20260423T202023
CREATED:20260129T190025Z
LAST-MODIFIED:20260129T190025Z
UID:3855-1769792400-1769799600@www.hackf.org
SUMMARY:Global Game Jam Meetup-Day 1
DESCRIPTION:📍 Hackforge HQ (300 Ouellette Ave\, Unit 210) & Online💻👥 Hybrid💲 Free \n\n\n\nHybrid work hours during Global Game Jam 2026 are open\, flexible sessions set aside for participants to spend time working on their games together in a shared space\, or online via Discord. These hours are all about giving you the room\, time\, and community to collaborate\, experiment\, and make progress on your project. \n\n\n\nDuring work hours\, you’re encouraged to: \n\n\n\n\nWork actively on your game\, either solo or with your team\n\n\n\nCollaborate\, brainstorm\, test ideas\, and share feedback with other jammers\n\n\n\nUse the space as a focused\, supportive co-working environment\n\n\n\n\nStaff will be on-site to open the space and help with basic needs\, but these sessions are intentionally unstructured. There won’t be scheduled activities\, presentations\, or facilitated programming during work hours and staff will not be casually available\, as they will be busy completing work. This time is yours to use in whatever way best supports your creative process. \n\n\n\nIf you’re interested in talks\, workshops\, or guided events\, please see our other events\, and consider joining our Discord or subscribing to our newsletter at hackf.org/join-our-newsletter. In-person work hours are simply a chance to come together\, settle in\, and build something great. \n\n\n\n📆 Thurs.\, Jan 29🕦5-7 PM📍Hackforge HQ (300 Ouellette Ave. Unit 210) & Online via Discord \n\n\n\nRegister for Global Game Jam at globalgamejam.org
URL:https://www.hackf.org/event/global-game-jam-meetup-day-1/
LOCATION:Fogolar Furlan\, 1800 North Service Rd\, Windsor\, Ontario\, N8W 1Y3\, Canada
CATEGORIES:Hybrid
ATTACH;FMTTYPE=image/png:https://www.hackf.org/wp-content/uploads/2026/01/Jan-29-Web-750-x-250-px1.png
END:VEVENT
BEGIN:VEVENT
DTSTART;TZID=America/Toronto:20260201T140000
DTEND;TZID=America/Toronto:20260201T190000
DTSTAMP:20260423T202023
CREATED:20251231T235550Z
LAST-MODIFIED:20251231T235550Z
UID:3793-1769954400-1769972400@www.hackf.org
SUMMARY:GLOBAL GAME JAM Closing
DESCRIPTION:📍 Hackforge HQ (300 Ouellette Ave\, Unit 210) & Online💻👥 Hybrid💲 Free \n\n\n\nWrap up an unforgettable week of game making by joining us for the 2026 Hackforge Global Game Jam Closing Party at Hackforge HQ or online via Discord! This is your chance to bring everything together and celebrate what you’ve built. \n\n\n\nThe afternoon will be focused on getting your game across the finish line. This is the perfect time to squash last-minute bugs\, polish gameplay\, finalize builds\, and make sure your submission is ready to go. Fellow jammers and mentors will be around to offer feedback\, help troubleshoot issues\, or simply provide moral support as the clock winds down. \n\n\n\nOnce submissions are in\, it’s time to relax and enjoy the results of an intense and inspiring week. At 5:00 pm\, we’ll kick off a show and tell session where teams can present their games\, share what worked (and what didn’t)\, and talk about the ideas and challenges behind their creations. \n\n\n\nWhether you join us in person or online\, everyone is welcome to watch\, play\, and cheer on the teams. Come celebrate the hard work\, creativity\, and community spirit that make Global Game Jam such a special experience! \n\n\n\n📆 Feb 1🕦 2 – 7(ish) PM📍Hackforge HQ (300 Ouellette Ave.\, Unit 210) & Online via Discord \n\n\n\nRegister for Global Game Jam at globalgamejam.org
URL:https://www.hackf.org/event/global-game-jam-closing/
LOCATION:Fogolar Furlan\, 1800 North Service Rd\, Windsor\, Ontario\, N8W 1Y3\, Canada
CATEGORIES:Hybrid
ATTACH;FMTTYPE=image/png:https://www.hackf.org/wp-content/uploads/2025/12/GGJ-2026-Closing-Party-750-x-250-px-WEB.png
END:VEVENT
BEGIN:VEVENT
DTSTART;TZID=America/Toronto:20260304T180000
DTEND;TZID=America/Toronto:20260304T200000
DTSTAMP:20260423T202023
CREATED:20260203T210857Z
LAST-MODIFIED:20260203T210858Z
UID:3875-1772647200-1772654400@www.hackf.org
SUMMARY:Create Your Own Digital Maps Using QGIS and Geoenabled Data!
DESCRIPTION:📍 Hackforge HQ (300 Ouellette Ave\, Unit 210) & Online💻👥 Hybrid💲 Free \n\n\n\nLet your creative side flourish during this choose your own adventure style map making tutorial\, using the completely free and open source desktop GIS software\, QGIS! 🗺️✍️ \n\n\n\nJoin Theo Walschots in a follow-along map making session where attendees are guided through GIS map creation and taught essential cartographic principles. This guided tutorial is not strict and outside the box thinking is encouraged! Many different datasets will be made available\, each with their own context and varying geometry. The goal is for every attendee to walk away with wildly different maps\, reflecting that individual’s creativity as well as their respective dataset. \n\n\n\nWhat to bringBring a laptop if you have one\, with QGIS (qgis.org) installed.Don’t worry if you don’t\, we’ll have some laptops available to share. \n\n\n\n📆 March 4\, 2026🕦 6-8 PM📍Hybrid (Hackforge HQ @ 300 Ouellette Ave\, Unit 210 & Online via Zoom)🎟️RSVP for In-Person attendance below💻Register for virtual attendance via Zoom
URL:https://www.hackf.org/event/create-your-own-digital-maps/
LOCATION:Fogolar Furlan\, 1800 North Service Rd\, Windsor\, Ontario\, N8W 1Y3\, Canada
CATEGORIES:Hybrid
ATTACH;FMTTYPE=image/png:https://www.hackf.org/wp-content/uploads/2026/02/Event-Poster-Hackforge-750x250-1.png
END:VEVENT
BEGIN:VEVENT
DTSTART;TZID=America/Toronto:20260312T180000
DTEND;TZID=America/Toronto:20260312T200000
DTSTAMP:20260423T202023
CREATED:20260203T205112Z
LAST-MODIFIED:20260217T191323Z
UID:3867-1773338400-1773345600@www.hackf.org
SUMMARY:Passion Project Lightning Talks
DESCRIPTION:📍 Hackforge HQ (300 Ouellette Ave\, Unit 210) & Online💻👥 Hybrid💲 Free \n\n\n\nGot a side project you can’t stop thinking about\, a tool you’re obsessed with\, or a weird tech idea that lights you up? Passion Projects Lightning Talks is a fast-paced\, high-energy night of 5-minute talks where curiosity beats polish and enthusiasm is the main requirement.  \n\n\n\nThis event is for developers\, designers\, founders\, students\, tinkerers\, and anyone in tech who loves building\, experimenting\, or learning; whether you’re actively working on a project or just want to be inspired by what others are creating. \n\n\n\nWhat to bringBring your curiosity\, your passion (and slides if you’re speaking)\, and an open mind.A laptop is optional\, questions are encouraged\, and good vibes are mandatory.What you’ll get out of it \n\n\n\n\nShare your passion with a group of likeminded folks\n\n\n\nLearn from other folks’ passion projects\n\n\n\nNetwork and find community\n\n\n\n\nYou’ll discover new ideas and tools you didn’t know you needed\, get inspired to start or keep going on your own passion project\, and connect with people who care deeply about building things just for the joy of it. \n\n\n\nTo sign up to give a lightning talk\, please email Bolt by March 12th at 1pm EST at bolt@hackf.org. If you are planning on presenting via slides or media\, please share the link(s)/slides in that email. We welcome online and in person talks! \n\n\n\n📆 March 12\, 2026🕦 6-8 PM📍Hackforge HQ (300 Ouellette Ave.\, Unit 210) & Online via Zoom🎟️RSVP for In-Person attendance below💻Register for virtual attendance via Zoom
URL:https://www.hackf.org/event/passion-project-lightning-talks/
LOCATION:Fogolar Furlan\, 1800 North Service Rd\, Windsor\, Ontario\, N8W 1Y3\, Canada
CATEGORIES:Hybrid
ATTACH;FMTTYPE=image/png:https://www.hackf.org/wp-content/uploads/2026/02/Passion-Project-750-x-250-px-WEB-1.png
END:VEVENT
BEGIN:VEVENT
DTSTART;TZID=America/Toronto:20260319T190000
DTEND;TZID=America/Toronto:20260319T210000
DTSTAMP:20260423T202023
CREATED:20260228T125344Z
LAST-MODIFIED:20260228T125530Z
UID:3913-1773946800-1773954000@www.hackf.org
SUMMARY:Windsor C and C++ User Group Inaugural Meeting
DESCRIPTION:📍 Hackforge HQ (300 Ouellette Ave\, Unit 210) & Online Via Zoom💻👥Hybrid💲 Free \n\n\n\nThe inaugural meeting of the Windsor C and C++ Users Group (WCCUG) will be on March 19th 2026 in-person at Hackforge. This is a new interest group\, targeting C and C++ enthusiasts and active users. \n\n\n\nTo learn more about WCCUG\, please visit wccug.org \n\n\n\n“What’s your Interest?”We will be discussing plans for what we’d like future meetings to be about! \n\n\n\nFeel free to bring projects to hack on\, interesting code to share\, or topics to discuss. Bryan will be bringing along a space-efficient implementation of the std::any class from the C++ Standard Library to talk about\, but any and all digressions will be actively encouraged! \n\n\n\nWhat to bringBring a laptop if you have one.Don’t worry if you don’t\, we’ll have some laptops available to share. \n\n\n\nPlanning to attend? Please let us know! Register to attend in-person using the RSVP form below\, or get the videoconference link by registering via Zoom. \n\n\n\n📆 March 19\,2026🕦 7-9 PM📍In-person at Hackforge HQ (300 Ouellette Ave Unit 210) & Online via Zoom
URL:https://www.hackf.org/event/windsor-c-and-c-user-group-inaugural-meeting/
LOCATION:Fogolar Furlan\, 1800 North Service Rd\, Windsor\, Ontario\, N8W 1Y3\, Canada
CATEGORIES:Hybrid
ATTACH;FMTTYPE=image/png:https://www.hackf.org/wp-content/uploads/2026/02/WCCUG-Inaugural-Meeting-Poster-WEB-1.png
END:VEVENT
BEGIN:VEVENT
DTSTART;TZID=America/Toronto:20260416T190000
DTEND;TZID=America/Toronto:20260416T210000
DTSTAMP:20260423T202023
CREATED:20260401T143735Z
LAST-MODIFIED:20260403T184213Z
UID:4021-1776366000-1776373200@www.hackf.org
SUMMARY:Group Project Kickoff & How to Compile your 1st project
DESCRIPTION:📍 Hackforge HQ (300 Ouellette Ave\, Unit 210) & Online Via Zoom💻👥Hybrid💲 Free \n\n\n\nThe latest installment of WCCUG will kick off with a 30-minute group brainstorming session\, where we’ll collaborate on ideas and directions for our first group project. This will be followed by a one-hour optional workshop on how to compile your first project (perfect for beginners or anyone looking for a refresher). Participants who prefer can use this time to begin working on the project independently. We’ll wrap up with a 30-minute closing session to share progress\, discuss challenges\, and outline next steps. \n\n\n\nWhat to Bring \n\n\n\nPlease bring your own laptop if possible. A limited number of spare laptops will be available\, if you need one\, please email us ahead of time at bolt@hackf.org so we can reserve it for you. \n\n\n\nWhat You’ll Walk Away With \n\n\n\n\nA clear understanding of how to compile and run your first project\n\n\n\nHands-on experience starting and working through a real project\n\n\n\nNew ideas and insights from collaborative brainstorming and peer discussion\n\n\n\n\nRSVP Required \n\n\n\nPlease make sure to RSVP in advance using the provided website. This helps us plan resources\, seating\, and equipment to ensure the best experience for everyone. \n\n\n\n📆 March 19\,2026🕦 7-9 PM📍In-person at Hackforge HQ (300 Ouellette Ave Unit 210) & Online via Zoom🎟️ RSVP Below for In-Person & via Zoom for Virtual
URL:https://www.hackf.org/event/group-project-kickoff-how-to-compile-your-1st-project/
LOCATION:Windsor Hackforge\, 300 Ouellette Ave\, Unit 210\, Windsor\, Ontario\, N9A7B4\, Canada
CATEGORIES:Hybrid
ATTACH;FMTTYPE=image/png:https://www.hackf.org/wp-content/uploads/2026/04/WCCUG-WEB-750-x-250-px.png
END:VEVENT
END:VCALENDAR