BEGIN:VCALENDAR
VERSION:2.0
PRODID:-//Windsor Hackforge - ECPv6.15.20//NONSGML v1.0//EN
CALSCALE:GREGORIAN
METHOD:PUBLISH
X-WR-CALNAME:Windsor Hackforge
X-ORIGINAL-URL:https://www.hackf.org
X-WR-CALDESC:Events for Windsor Hackforge
REFRESH-INTERVAL;VALUE=DURATION:PT1H
X-Robots-Tag:noindex
X-PUBLISHED-TTL:PT1H
BEGIN:VTIMEZONE
TZID:America/Toronto
BEGIN:DAYLIGHT
TZOFFSETFROM:-0500
TZOFFSETTO:-0400
TZNAME:EDT
DTSTART:20250309T070000
END:DAYLIGHT
BEGIN:STANDARD
TZOFFSETFROM:-0400
TZOFFSETTO:-0500
TZNAME:EST
DTSTART:20251102T060000
END:STANDARD
BEGIN:DAYLIGHT
TZOFFSETFROM:-0500
TZOFFSETTO:-0400
TZNAME:EDT
DTSTART:20260308T070000
END:DAYLIGHT
BEGIN:STANDARD
TZOFFSETFROM:-0400
TZOFFSETTO:-0500
TZNAME:EST
DTSTART:20261101T060000
END:STANDARD
BEGIN:DAYLIGHT
TZOFFSETFROM:-0500
TZOFFSETTO:-0400
TZNAME:EDT
DTSTART:20270314T070000
END:DAYLIGHT
BEGIN:STANDARD
TZOFFSETFROM:-0400
TZOFFSETTO:-0500
TZNAME:EST
DTSTART:20271107T060000
END:STANDARD
END:VTIMEZONE
BEGIN:VEVENT
DTSTART;TZID=America/Toronto:20260126T180000
DTEND;TZID=America/Toronto:20260126T200000
DTSTAMP:20260423T102029
CREATED:20251230T175642Z
LAST-MODIFIED:20260126T173116Z
UID:3758-1769450400-1769457600@www.hackf.org
SUMMARY:GLOBAL GAME JAM KICKOFF
DESCRIPTION:📍 Hackforge HQ (300 Ouellette Ave\, Unit 210) & Online💻👥 Hybrid💲 Free \n\n\n\nKick off Global Game Jam with us at Hackforge HQ or online via Discord and get ready for an exciting week of creativity\, collaboration\, and game development! This opening event sets the tone for the jam and gives you everything you need to dive in with confidence\, whether you’re a first-time jammer or a seasoned pro. \n\n\n\nWe’ll get the engines running by watching the official Global Game Jam keynote together. During this keynote\, the theme will be revealed! There will be time afterwards to discuss the theme and iron out any nerves. Got questions? Bring them with you! This isn’t our first rodeo and there will likely be many Game Jam vets present to help us answer any questions that are burning in your brain\, making sure everyone’s confident moving forward. Next\, we’ll focus on team formation. Participants can pitch ideas\, share skills\, and connect with others\, and organizers will be on hand to help set teams and make sure no one is left out. Whether you come with a plan or are looking for collaborators\, this is where teams come together. \n\n\n\nBefore kicking off development\, we’ll wrap up with an important AI policy announcement\, outlining what is and isn’t permitted during the jam. Once that’s covered\, it’s time to get in the jam and start creating. \n\n\n\nHackforge welcomes folks from anywhere who are interested in creating any kind of game. Design and develop as part of a team or a solo jammer – whatever you prefer! All ages are welcome to participate\, but anyone under 17 must be on a team with a parent or guardian.Throughout the week of the Jam\, there will be opportunities for hybrid and virtual open work hours with your team. We’ll cap off the week with a Closing Party to put on final touches\, submit your game\, then show it off! \n\n\n\nOpen to all\, not just participants! \n\n\n\n📆 Jan 26\, 2026🕦6PM-8PM📍Online via Discord🎟️Register for Global Game Jam at globalgamejam.org \n\n\n\nCome for the knowledge\, stay for the community\, and get ready to make something incredible! 🎨👾
URL:https://www.hackf.org/event/global-game-jam-kickoff-2/
LOCATION:Fogolar Furlan\, 1800 North Service Rd\, Windsor\, Ontario\, N8W 1Y3\, Canada
CATEGORIES:Hybrid
ATTACH;FMTTYPE=image/png:https://www.hackf.org/wp-content/uploads/2025/12/GGJ-2026-Kickoff-750-x-250-px-1.png
END:VEVENT
END:VCALENDAR