BEGIN:VCALENDAR
VERSION:2.0
PRODID:-//Windsor Hackforge - ECPv6.15.20//NONSGML v1.0//EN
CALSCALE:GREGORIAN
METHOD:PUBLISH
X-WR-CALNAME:Windsor Hackforge
X-ORIGINAL-URL:https://www.hackf.org
X-WR-CALDESC:Events for Windsor Hackforge
REFRESH-INTERVAL;VALUE=DURATION:PT1H
X-Robots-Tag:noindex
X-PUBLISHED-TTL:PT1H
BEGIN:VTIMEZONE
TZID:America/Toronto
BEGIN:DAYLIGHT
TZOFFSETFROM:-0500
TZOFFSETTO:-0400
TZNAME:EDT
DTSTART:20250309T070000
END:DAYLIGHT
BEGIN:STANDARD
TZOFFSETFROM:-0400
TZOFFSETTO:-0500
TZNAME:EST
DTSTART:20251102T060000
END:STANDARD
BEGIN:DAYLIGHT
TZOFFSETFROM:-0500
TZOFFSETTO:-0400
TZNAME:EDT
DTSTART:20260308T070000
END:DAYLIGHT
BEGIN:STANDARD
TZOFFSETFROM:-0400
TZOFFSETTO:-0500
TZNAME:EST
DTSTART:20261101T060000
END:STANDARD
BEGIN:DAYLIGHT
TZOFFSETFROM:-0500
TZOFFSETTO:-0400
TZNAME:EDT
DTSTART:20270314T070000
END:DAYLIGHT
BEGIN:STANDARD
TZOFFSETFROM:-0400
TZOFFSETTO:-0500
TZNAME:EST
DTSTART:20271107T060000
END:STANDARD
END:VTIMEZONE
BEGIN:VEVENT
DTSTART;TZID=America/Toronto:20260122T190000
DTEND;TZID=America/Toronto:20260122T210000
DTSTAMP:20260423T114128
CREATED:20251231T224036Z
LAST-MODIFIED:20251231T224037Z
UID:3771-1769108400-1769115600@www.hackf.org
SUMMARY:Basics of the Zettabyte File System (ZFS)
DESCRIPTION:📍 Hackforge HQ (300 Ouellette Ave\, Unit 210) & Online💻👥 Hybrid💲 Free \n\n\n\nAt this month’s LUG event\, we’ll be exploring the basics of the Zettabyte File System (ZFS) as well as discuss whether it would be a good choice for the root file system. All skill levels are welcome\, but some basic knowledge of Linux will make the material easier to understand. \n\n\n\nWhat to Expect: \n\n\n\n\nGo over the basic concepts of ZFS\n\n\n\nExplore core features of ZFS like: compression\, redundancy\, and encryption\n\n\n\nTake a look at the pitfalls & benefits of using ZFS as a root file system\n\n\n\nLearn about “out-of-tree” modules and DKMS\n\n\n\nDiscover why you’d want to use the ZFSBootMenu bootloader\n\n\n\nComplete a demo Arch Linux install\n\n\n\n\n📆 Jan 22🕦 7-9 PM📍 Hybrid at Hackforge HQ (300 Ouellette Ave\, Unit 210) & Online via Zoom🎟️RSVP for In-Person attendance below💻Register for virtual attendance via Zoom
URL:https://www.hackf.org/event/basics-of-the-zettabyte-file-system-zfs/
LOCATION:Fogolar Furlan\, 1800 North Service Rd\, Windsor\, Ontario\, N8W 1Y3\, Canada
CATEGORIES:Hybrid
ATTACH;FMTTYPE=image/png:https://www.hackf.org/wp-content/uploads/2025/12/Basics-of-Zettabyte-File-System-ZFS-750-x-250-px.png
END:VEVENT
END:VCALENDAR