BEGIN:VCALENDAR
VERSION:2.0
PRODID:-//Windsor Hackforge - ECPv6.15.20//NONSGML v1.0//EN
CALSCALE:GREGORIAN
METHOD:PUBLISH
X-ORIGINAL-URL:https://www.hackf.org
X-WR-CALDESC:Events for Windsor Hackforge
REFRESH-INTERVAL;VALUE=DURATION:PT1H
X-Robots-Tag:noindex
X-PUBLISHED-TTL:PT1H
BEGIN:VTIMEZONE
TZID:America/Toronto
BEGIN:DAYLIGHT
TZOFFSETFROM:-0500
TZOFFSETTO:-0400
TZNAME:EDT
DTSTART:20250309T070000
END:DAYLIGHT
BEGIN:STANDARD
TZOFFSETFROM:-0400
TZOFFSETTO:-0500
TZNAME:EST
DTSTART:20251102T060000
END:STANDARD
BEGIN:DAYLIGHT
TZOFFSETFROM:-0500
TZOFFSETTO:-0400
TZNAME:EDT
DTSTART:20260308T070000
END:DAYLIGHT
BEGIN:STANDARD
TZOFFSETFROM:-0400
TZOFFSETTO:-0500
TZNAME:EST
DTSTART:20261101T060000
END:STANDARD
BEGIN:DAYLIGHT
TZOFFSETFROM:-0500
TZOFFSETTO:-0400
TZNAME:EDT
DTSTART:20270314T070000
END:DAYLIGHT
BEGIN:STANDARD
TZOFFSETFROM:-0400
TZOFFSETTO:-0500
TZNAME:EST
DTSTART:20271107T060000
END:STANDARD
END:VTIMEZONE
BEGIN:VEVENT
DTSTART;TZID=America/Toronto:20260113T180000
DTEND;TZID=America/Toronto:20260113T200000
DTSTAMP:20260423T114224
CREATED:20251231T220427Z
LAST-MODIFIED:20251231T220428Z
UID:3768-1768327200-1768334400@www.hackf.org
SUMMARY:From BASIC to Modern: Porting Classic Games to Modern Systems
DESCRIPTION:📍 Hackforge HQ (300 Ouellette Ave\, Unit 210) & Online💻👥 Hybrid💲 Free \n\n\n\nEver wondered what it was like to make games in the early days of personal computing\, when you typed code straight from a book and hit “run”? Retro Code Revival is a hands-on event inspired by the classic BASIC Computer Games era\, and the 1973 book 101 BASIC Computer Games by David H. Ahl\, where simple ideas\, clever logic\, and creativity mattered more than graphics or hardware power. \n\n\n\nIn this event\, we’ll take old school\, text-based\, and early computer games and bring them into the present. Participants will explore how these games worked\, and how they can be ported to modern systems. Whether you recreate the game faithfully or give it a modern twist\, the goal is to learn\, experiment\, and have fun while preserving the spirit of early game design.  \n\n\n\nThis is a collaborative\, beginner-friendly space for programmers\, gamers\, and curious tinkerers alike. You don’t need to be an expert\, just interested in how old ideas can live again on new systems. \n\n\n\nWhat You’ll Take Away:🎮 How to make a modern version of a classic game💡 A better understanding of game logic\, constraints\, and design fundamentals🤝 New skills and inspiration going into Global Game Jam 2026 \n\n\n\n📆 Jan. 13\, 2026🕦 6-8 PM📍Hybrid (Hackforge HQ @ 300 Ouellete Ave\, Suite 210) and Online via Zoom🎟️RSVP for In-Person attendance below💻Register for virtual attendance via Zoom
URL:https://www.hackf.org/event/from-basic-to-modern-porting-classic-games-to-modern-systems-2/
LOCATION:Fogolar Furlan\, 1800 North Service Rd\, Windsor\, Ontario\, N8W 1Y3\, Canada
CATEGORIES:Hybrid
ATTACH;FMTTYPE=image/png:https://www.hackf.org/wp-content/uploads/2025/12/From-Basic-to-Modern-750-x-250-px.png
END:VEVENT
END:VCALENDAR