BEGIN:VCALENDAR
VERSION:2.0
PRODID:-//Windsor Hackforge - ECPv6.15.20//NONSGML v1.0//EN
CALSCALE:GREGORIAN
METHOD:PUBLISH
X-WR-CALNAME:Windsor Hackforge
X-ORIGINAL-URL:https://www.hackf.org
X-WR-CALDESC:Events for Windsor Hackforge
REFRESH-INTERVAL;VALUE=DURATION:PT1H
X-Robots-Tag:noindex
X-PUBLISHED-TTL:PT1H
BEGIN:VTIMEZONE
TZID:America/Toronto
BEGIN:DAYLIGHT
TZOFFSETFROM:-0500
TZOFFSETTO:-0400
TZNAME:EDT
DTSTART:20240310T070000
END:DAYLIGHT
BEGIN:STANDARD
TZOFFSETFROM:-0400
TZOFFSETTO:-0500
TZNAME:EST
DTSTART:20241103T060000
END:STANDARD
BEGIN:DAYLIGHT
TZOFFSETFROM:-0500
TZOFFSETTO:-0400
TZNAME:EDT
DTSTART:20250309T070000
END:DAYLIGHT
BEGIN:STANDARD
TZOFFSETFROM:-0400
TZOFFSETTO:-0500
TZNAME:EST
DTSTART:20251102T060000
END:STANDARD
BEGIN:DAYLIGHT
TZOFFSETFROM:-0500
TZOFFSETTO:-0400
TZNAME:EDT
DTSTART:20260308T070000
END:DAYLIGHT
BEGIN:STANDARD
TZOFFSETFROM:-0400
TZOFFSETTO:-0500
TZNAME:EST
DTSTART:20261101T060000
END:STANDARD
END:VTIMEZONE
BEGIN:VEVENT
DTSTART;TZID=America/Toronto:20251024T180000
DTEND;TZID=America/Toronto:20251024T200000
DTSTAMP:20260423T153158
CREATED:20250928T035347Z
LAST-MODIFIED:20250928T035713Z
UID:3457-1761328800-1761336000@www.hackf.org
SUMMARY:Neighbourhood Quest
DESCRIPTION:📍 Hackforge HQ (300 Ouellette Ave\, Unit 210) & Online💻👥 Hybrid💲 Free \n\n\n\nForget the Oregon Trail\, in this workshop\, Doug Sartori (Parallel 42; Mean\, Median\, and Moose) will show you how to turn Census and OpenStreetMap data into a text-based adventure game set in your own neighbourhood! \n\n\n\nWith QGIS and open data as your toolkit\, you’ll learn how to mash up maps\, stats\, and storytelling into a ridiculous\, one-of-a-kind game that’s uniquely yours. \n\n\n\nNo experience required\, just bring your curiosity (and maybe a wizard hat). Follow along\, and by the end\, you’ll walk away with a playable game and the skills to keep exploring the wild world of data-driven adventures. \n\n\n\n📆 October 24🕦6-8 PM📍Hackforge HQ (300 Ouellette Ave.\, Unit 210) & Online via Zoom🎟️RSVP for In-Person attendance below💻Register for virtual attendance via Zoom
URL:https://www.hackf.org/event/neighbourhood-quest/
LOCATION:Fogolar Furlan\, 1800 North Service Rd\, Windsor\, Ontario\, N8W 1Y3\, Canada
CATEGORIES:Hybrid
ATTACH;FMTTYPE=image/png:https://www.hackf.org/wp-content/uploads/2025/09/Neighbourhood-Quest-WEB-800-x-320-px-1.png
END:VEVENT
END:VCALENDAR