BEGIN:VCALENDAR
VERSION:2.0
PRODID:-//Windsor Hackforge - ECPv6.15.20//NONSGML v1.0//EN
CALSCALE:GREGORIAN
METHOD:PUBLISH
X-WR-CALNAME:Windsor Hackforge
X-ORIGINAL-URL:https://www.hackf.org
X-WR-CALDESC:Events for Windsor Hackforge
REFRESH-INTERVAL;VALUE=DURATION:PT1H
X-Robots-Tag:noindex
X-PUBLISHED-TTL:PT1H
BEGIN:VTIMEZONE
TZID:America/Toronto
BEGIN:DAYLIGHT
TZOFFSETFROM:-0500
TZOFFSETTO:-0400
TZNAME:EDT
DTSTART:20240310T070000
END:DAYLIGHT
BEGIN:STANDARD
TZOFFSETFROM:-0400
TZOFFSETTO:-0500
TZNAME:EST
DTSTART:20241103T060000
END:STANDARD
BEGIN:DAYLIGHT
TZOFFSETFROM:-0500
TZOFFSETTO:-0400
TZNAME:EDT
DTSTART:20250309T070000
END:DAYLIGHT
BEGIN:STANDARD
TZOFFSETFROM:-0400
TZOFFSETTO:-0500
TZNAME:EST
DTSTART:20251102T060000
END:STANDARD
BEGIN:DAYLIGHT
TZOFFSETFROM:-0500
TZOFFSETTO:-0400
TZNAME:EDT
DTSTART:20260308T070000
END:DAYLIGHT
BEGIN:STANDARD
TZOFFSETFROM:-0400
TZOFFSETTO:-0500
TZNAME:EST
DTSTART:20261101T060000
END:STANDARD
END:VTIMEZONE
BEGIN:VEVENT
DTSTART;TZID=America/Toronto:20250825T173000
DTEND;TZID=America/Toronto:20250825T190000
DTSTAMP:20260423T182356
CREATED:20250730T175215Z
LAST-MODIFIED:20250730T175215Z
UID:3306-1756143000-1756148400@www.hackf.org
SUMMARY:A.I. for administrators
DESCRIPTION:📍 Hackforge HQ (300 Ouellette Ave\, Unit 210) & Online💻👥 Hybrid💲 Free \n\n\n\nCurious about AI but not sure where to start? This 90-minute session is designed for administrators with little to no technical background – or anyone else interested in the absolute basics of Artificial Intelligence! \n\n\n\nWe’ll break down what AI really is\, show practical examples of how it can support your daily workflow\, and share tips for using it safely and effectively. From drafting emails to summarizing meetings\, you’ll learn how to make AI work for you—without the jargon or overwhelm. Walk away with simple strategies\, tool comparisons\, and the confidence to explore AI in your own role. \n\n\n\nBring your questions and laptops! Attendees will have the opportunity to experiment throughout the session. \n\n\n\n📆 Monday\, August 25🕦 5:30 – 7PM📍 Hackforge HQ (300 Ouellette Ave\, Unit 210) 7 Online via Zoom🎟️RSVP for In-Person attendance below💻Register for virtual attendance via Zoom
URL:https://www.hackf.org/event/a-i-for-administrators/
LOCATION:Fogolar Furlan\, 1800 North Service Rd\, Windsor\, Ontario\, N8W 1Y3\, Canada
CATEGORIES:Hybrid
ATTACH;FMTTYPE=image/png:https://www.hackf.org/wp-content/uploads/2025/07/AI-Administrators.png
END:VEVENT
END:VCALENDAR