BEGIN:VCALENDAR
VERSION:2.0
PRODID:-//Windsor Hackforge - ECPv6.15.20//NONSGML v1.0//EN
CALSCALE:GREGORIAN
METHOD:PUBLISH
X-WR-CALNAME:Windsor Hackforge
X-ORIGINAL-URL:https://www.hackf.org
X-WR-CALDESC:Events for Windsor Hackforge
REFRESH-INTERVAL;VALUE=DURATION:PT1H
X-Robots-Tag:noindex
X-PUBLISHED-TTL:PT1H
BEGIN:VTIMEZONE
TZID:America/Toronto
BEGIN:DAYLIGHT
TZOFFSETFROM:-0500
TZOFFSETTO:-0400
TZNAME:EDT
DTSTART:20240310T070000
END:DAYLIGHT
BEGIN:STANDARD
TZOFFSETFROM:-0400
TZOFFSETTO:-0500
TZNAME:EST
DTSTART:20241103T060000
END:STANDARD
BEGIN:DAYLIGHT
TZOFFSETFROM:-0500
TZOFFSETTO:-0400
TZNAME:EDT
DTSTART:20250309T070000
END:DAYLIGHT
BEGIN:STANDARD
TZOFFSETFROM:-0400
TZOFFSETTO:-0500
TZNAME:EST
DTSTART:20251102T060000
END:STANDARD
BEGIN:DAYLIGHT
TZOFFSETFROM:-0500
TZOFFSETTO:-0400
TZNAME:EDT
DTSTART:20260308T070000
END:DAYLIGHT
BEGIN:STANDARD
TZOFFSETFROM:-0400
TZOFFSETTO:-0500
TZNAME:EST
DTSTART:20261101T060000
END:STANDARD
END:VTIMEZONE
BEGIN:VEVENT
DTSTART;TZID=America/Toronto:20250520T180000
DTEND;TZID=America/Toronto:20250520T200000
DTSTAMP:20260423T224309
CREATED:20250512T233736Z
LAST-MODIFIED:20250512T234524Z
UID:3063-1747764000-1747771200@www.hackf.org
SUMMARY:Analyzing Canadian Elections - Border City Data
DESCRIPTION:📍 Hackforge HQ (300 Ouellette Ave\, Unit 210) & Online💻👥 Hybrid💲 Free \n\n\n\nIn this event for experienced data practitioners\, Doug Sartori covers the nuts and bolts of Canadian election data\, and demonstrates a technique for fine-grained evaluation of election results across elections\, accounting for unstable geography and identifiers. \n\n\n\n📆 Date: May 20\, 2025🕦Time: 6pm-8pm📍Location: Hackforge HQ (300 Ouellette Ave.\, Unit 210) & Online via Zoom✔️In-Person RSVP below🖥️ Virtual RSVP via Zoom
URL:https://www.hackf.org/event/analyzing-canadian-elections-border-city-data/
LOCATION:Fogolar Furlan\, 1800 North Service Rd\, Windsor\, Ontario\, N8W 1Y3\, Canada
CATEGORIES:Hybrid
ATTACH;FMTTYPE=image/png:https://www.hackf.org/wp-content/uploads/2025/05/Analyzing-Canadian-Elections-750-x-250-px-WEB.png
END:VEVENT
END:VCALENDAR