BEGIN:VCALENDAR
VERSION:2.0
PRODID:-//Windsor Hackforge - ECPv6.15.20//NONSGML v1.0//EN
CALSCALE:GREGORIAN
METHOD:PUBLISH
X-WR-CALNAME:Windsor Hackforge
X-ORIGINAL-URL:https://www.hackf.org
X-WR-CALDESC:Events for Windsor Hackforge
REFRESH-INTERVAL;VALUE=DURATION:PT1H
X-Robots-Tag:noindex
X-PUBLISHED-TTL:PT1H
BEGIN:VTIMEZONE
TZID:America/Toronto
BEGIN:DAYLIGHT
TZOFFSETFROM:-0500
TZOFFSETTO:-0400
TZNAME:EDT
DTSTART:20240310T070000
END:DAYLIGHT
BEGIN:STANDARD
TZOFFSETFROM:-0400
TZOFFSETTO:-0500
TZNAME:EST
DTSTART:20241103T060000
END:STANDARD
BEGIN:DAYLIGHT
TZOFFSETFROM:-0500
TZOFFSETTO:-0400
TZNAME:EDT
DTSTART:20250309T070000
END:DAYLIGHT
BEGIN:STANDARD
TZOFFSETFROM:-0400
TZOFFSETTO:-0500
TZNAME:EST
DTSTART:20251102T060000
END:STANDARD
BEGIN:DAYLIGHT
TZOFFSETFROM:-0500
TZOFFSETTO:-0400
TZNAME:EDT
DTSTART:20260308T070000
END:DAYLIGHT
BEGIN:STANDARD
TZOFFSETFROM:-0400
TZOFFSETTO:-0500
TZNAME:EST
DTSTART:20261101T060000
END:STANDARD
END:VTIMEZONE
BEGIN:VEVENT
DTSTART;TZID=America/Toronto:20250318T180000
DTEND;TZID=America/Toronto:20250318T200000
DTSTAMP:20260424T013234
CREATED:20250228T012437Z
LAST-MODIFIED:20250318T232146Z
UID:2920-1742320800-1742328000@www.hackf.org
SUMMARY:Extracting OSM Data
DESCRIPTION:📍 Hackforge HQ (300 Ouellette Ave\, Unit 210) & Online💻👥 Hybrid💲 Free \n\n\n\nOpenStreetMap Windsor-Essex has spent a ton of time talking about how everyone can add data to OSM\, but we’ve never spoken much about how to get that data back out. \n\n\n\nSo for those of you interested in extracting geodata for analysis\, use in your own projects\, or a bit of light reading\, this is the event for you! \n\n\n\nStop in to this free\, 2-hour event for answers to:🌎 What is Overpass Turbo?🌎 What can I legally do with OSM data?🌎 How many parking lots does Windsor have? \n\n\n\nBasic knowledge of OSM is recommended\, but not required. As long as you can confidently navigate a web-browser and aren’t afraid of new words\, you should be able to follow along just fine!📆 Date: Tues.\, March 18🕦 Time: 6-8 PM (EST)📍Location: Hackforge HQ (300 Ouellette Ave.\, Unit 210\, Windsor\, ON) & Zoom✔️In-Person RSVP below🖥️ Virtual RSVP via Zoom \n\n\n\n🔗To get a head start\, visit this OSM resource
URL:https://www.hackf.org/event/extracting-osm-data/
LOCATION:Fogolar Furlan\, 1800 North Service Rd\, Windsor\, Ontario\, N8W 1Y3\, Canada
CATEGORIES:Hybrid
ATTACH;FMTTYPE=image/png:https://www.hackf.org/wp-content/uploads/2025/02/Extracting-OSM-Data-WEB-750-x-250-px.png
END:VEVENT
END:VCALENDAR