BEGIN:VCALENDAR
VERSION:2.0
PRODID:-//Windsor Hackforge - ECPv6.15.20//NONSGML v1.0//EN
CALSCALE:GREGORIAN
METHOD:PUBLISH
X-ORIGINAL-URL:https://www.hackf.org
X-WR-CALDESC:Events for Windsor Hackforge
REFRESH-INTERVAL;VALUE=DURATION:PT1H
X-Robots-Tag:noindex
X-PUBLISHED-TTL:PT1H
BEGIN:VTIMEZONE
TZID:America/Toronto
BEGIN:DAYLIGHT
TZOFFSETFROM:-0500
TZOFFSETTO:-0400
TZNAME:EDT
DTSTART:20240310T070000
END:DAYLIGHT
BEGIN:STANDARD
TZOFFSETFROM:-0400
TZOFFSETTO:-0500
TZNAME:EST
DTSTART:20241103T060000
END:STANDARD
BEGIN:DAYLIGHT
TZOFFSETFROM:-0500
TZOFFSETTO:-0400
TZNAME:EDT
DTSTART:20250309T070000
END:DAYLIGHT
BEGIN:STANDARD
TZOFFSETFROM:-0400
TZOFFSETTO:-0500
TZNAME:EST
DTSTART:20251102T060000
END:STANDARD
BEGIN:DAYLIGHT
TZOFFSETFROM:-0500
TZOFFSETTO:-0400
TZNAME:EDT
DTSTART:20260308T070000
END:DAYLIGHT
BEGIN:STANDARD
TZOFFSETFROM:-0400
TZOFFSETTO:-0500
TZNAME:EST
DTSTART:20261101T060000
END:STANDARD
END:VTIMEZONE
BEGIN:VEVENT
DTSTART;TZID=America/Toronto:20250313T183000
DTEND;TZID=America/Toronto:20250313T203000
DTSTAMP:20260424T013401
CREATED:20250225T182019Z
LAST-MODIFIED:20250227T234947Z
UID:2913-1741890600-1741897800@www.hackf.org
SUMMARY:Dodging a Career Bullet: Workshopping the Joel test for 2025
DESCRIPTION:📍 Hackforge HQ (300 Ouellette Ave\, Unit 210) & Online💻👥 Hybrid💲 Free \n\n\n\nNot all tech jobs are created equal! Before you say “yes” to an offer\, do you know what red flags to watch for? \n\n\n\nDoug Sartori invites you to a guided group discussion designed for software professionals navigating the job market in 2025. We’ll dive into the Joel Test\, a 12-question framework for evaluating software teams\, and explore how it holds up in today’s industry. \n\n\n\n💡 Whether you’re job hunting or just want to sharpen your hiring instincts\, this session will give you the tools to make smarter career choices. Join the discussion and level up your job search! \n\n\n\n📌 What You’ll Learn:✅ How to assess a potential employer as a technical resource✅ How to prepare effectively for interviews✅ What to expect from a solid interview loop🔗 Learn more about the Joel Test before the event: \n\n\n\n\nThe Original Joel Test (2000)\n\n\n\nThe Joel Test 20 Years Later\n\n\n\n\n📆 Date: Thurs.\, March 13🕦 Time: 6:30-8:30 PM (EST)📍Location: Hackforge HQ (300 Ouellette Ave.\, Unit 210\, Windsor\, ON) & Zoom✔️In-Person RSVP below🖥️ Virtual RSVP via Zoom
URL:https://www.hackf.org/event/dodging-a-career-bullet/
LOCATION:Fogolar Furlan\, 1800 North Service Rd\, Windsor\, Ontario\, N8W 1Y3\, Canada
CATEGORIES:Hybrid
ATTACH;FMTTYPE=image/png:https://www.hackf.org/wp-content/uploads/2025/02/Dodging-a-Career-Bullet-Website.png
END:VEVENT
END:VCALENDAR