BEGIN:VCALENDAR
VERSION:2.0
PRODID:-//Windsor Hackforge - ECPv6.15.20//NONSGML v1.0//EN
CALSCALE:GREGORIAN
METHOD:PUBLISH
X-ORIGINAL-URL:https://www.hackf.org
X-WR-CALDESC:Events for Windsor Hackforge
REFRESH-INTERVAL;VALUE=DURATION:PT1H
X-Robots-Tag:noindex
X-PUBLISHED-TTL:PT1H
BEGIN:VTIMEZONE
TZID:America/Toronto
BEGIN:DAYLIGHT
TZOFFSETFROM:-0500
TZOFFSETTO:-0400
TZNAME:EDT
DTSTART:20240310T070000
END:DAYLIGHT
BEGIN:STANDARD
TZOFFSETFROM:-0400
TZOFFSETTO:-0500
TZNAME:EST
DTSTART:20241103T060000
END:STANDARD
BEGIN:DAYLIGHT
TZOFFSETFROM:-0500
TZOFFSETTO:-0400
TZNAME:EDT
DTSTART:20250309T070000
END:DAYLIGHT
BEGIN:STANDARD
TZOFFSETFROM:-0400
TZOFFSETTO:-0500
TZNAME:EST
DTSTART:20251102T060000
END:STANDARD
BEGIN:DAYLIGHT
TZOFFSETFROM:-0500
TZOFFSETTO:-0400
TZNAME:EDT
DTSTART:20260308T070000
END:DAYLIGHT
BEGIN:STANDARD
TZOFFSETFROM:-0400
TZOFFSETTO:-0500
TZNAME:EST
DTSTART:20261101T060000
END:STANDARD
END:VTIMEZONE
BEGIN:VEVENT
DTSTART;TZID=America/Toronto:20250227T190000
DTEND;TZID=America/Toronto:20250227T210000
DTSTAMP:20260424T013324
CREATED:20250129T184120Z
LAST-MODIFIED:20250129T184121Z
UID:2866-1740682800-1740690000@www.hackf.org
SUMMARY:Running a Local LLM
DESCRIPTION:📍 Hackforge HQ (300 Ouellette Ave\, Unit 210) & Online💻👥 Hybrid💲 Free \n\n\n\nJoin us for this LUG event as we walk through the steps for running a local LLM within a container\, discussing why you would want to run a local LLM\, and how to configure Open Web UI to use your local LLMs. \n\n\n\nPrerequisites for the DemoIf you’d like to follow along during the demo\, please carefully read everything below. We won’t have time to bootstrap everyone’s computer during the event. Some familiarity with your operating system’s command line will be required as we’ll be using commands to get everything up and running. Using Linux is not a requirement as the commands should also work on Windows and MacOS (though there might be some slight variances). \n\n\n\nHaving a computer with a LLM chip or any other specific hardware is not required. Everything we’ll be doing can be run on the CPU. The presentation will cover some hardware considerations and limitations. \n\n\n\nWhat you’ll need: \n\n\n\n\nLaptop (if in-person)\n\n\n\nIf using Windows or MacOS\, make sure Podman Desktop is installed and up to date\n\n\n\nIf using Linux\, make sure Podman and/or Podman Desktop is installed and up to date\n\n\n\n\nIf you have any questions about any of the prerequisites or need help\, please join the Hackforge Discord and ask your questions in the #linux-users-group channel. Our user base will be more than happy to help you! \n\n\n\nAgenda \n\n\n\n\nBrief presentation covering:\n\nWhat we’ll be doing in the demo\n\n\n\nDiscuss a couple of reasons why you would want to run a local LLM\n\n\n\nHardware considerations & limitations\n\n\n\n\n\nDemo\n\n\n\n\n📆Date: Thursday\, February 27th🕦 Time: 7:00 PM – 9:00 PM (EST)📍Location: Hackforge HQ (300 Ouellette Ave.\, Unit 210\, Windsor\, ON) & Zoom \n\n\n\n✔️In-Person RSVP below🖥️ Virtual RSVP via Zoom
URL:https://www.hackf.org/event/running-a-local-llm/
LOCATION:Fogolar Furlan\, 1800 North Service Rd\, Windsor\, Ontario\, N8W 1Y3\, Canada
CATEGORIES:Hybrid
ATTACH;FMTTYPE=image/png:https://www.hackf.org/wp-content/uploads/2025/01/Running-a-Local-LLM-WEB-750-x-250-px.png
END:VEVENT
END:VCALENDAR