BEGIN:VCALENDAR
VERSION:2.0
PRODID:-//Windsor Hackforge - ECPv6.15.20//NONSGML v1.0//EN
CALSCALE:GREGORIAN
METHOD:PUBLISH
X-ORIGINAL-URL:https://www.hackf.org
X-WR-CALDESC:Events for Windsor Hackforge
REFRESH-INTERVAL;VALUE=DURATION:PT1H
X-Robots-Tag:noindex
X-PUBLISHED-TTL:PT1H
BEGIN:VTIMEZONE
TZID:America/Toronto
BEGIN:DAYLIGHT
TZOFFSETFROM:-0500
TZOFFSETTO:-0400
TZNAME:EDT
DTSTART:20240310T070000
END:DAYLIGHT
BEGIN:STANDARD
TZOFFSETFROM:-0400
TZOFFSETTO:-0500
TZNAME:EST
DTSTART:20241103T060000
END:STANDARD
BEGIN:DAYLIGHT
TZOFFSETFROM:-0500
TZOFFSETTO:-0400
TZNAME:EDT
DTSTART:20250309T070000
END:DAYLIGHT
BEGIN:STANDARD
TZOFFSETFROM:-0400
TZOFFSETTO:-0500
TZNAME:EST
DTSTART:20251102T060000
END:STANDARD
BEGIN:DAYLIGHT
TZOFFSETFROM:-0500
TZOFFSETTO:-0400
TZNAME:EDT
DTSTART:20260308T070000
END:DAYLIGHT
BEGIN:STANDARD
TZOFFSETFROM:-0400
TZOFFSETTO:-0500
TZNAME:EST
DTSTART:20261101T060000
END:STANDARD
END:VTIMEZONE
BEGIN:VEVENT
DTSTART;TZID=America/Toronto:20250206T180000
DTEND;TZID=America/Toronto:20250206T200000
DTSTAMP:20260424T030431
CREATED:20250127T130349Z
LAST-MODIFIED:20250127T130350Z
UID:2854-1738864800-1738872000@www.hackf.org
SUMMARY:What's Your Favourite Browser Add-on?
DESCRIPTION:📍 Hackforge HQ (300 Ouellette Ave\, Unit 210) & Online💻👥 Hybrid💲 Free \n\n\n\nDiscover Hidden Gems of the Browser World!Join us for a fun and interactive session where we ask the big question: What’s your favorite browser add-on? \n\n\n\nThis show-and-tell style event is your chance to share the tools you love\, explore nifty add-ons others swear by\, and walk away with a treasure trove of new ideas to enhance your browsing experience. From productivity boosters to quirky tools you never knew you needed\, there’s something for everyone! \n\n\n\nWhat to Expect:📢 Brief presentations from attendees showcasing their favorite add-ons.💬 Casual discussions and Q&A to dive deeper into the coolest features.✨A chance to mix and mingle with fellow tech enthusiasts \n\n\n\n📆Feb 6\, 2025🕦6pm-8pm📍Hackforge HQ (300 Ouellette Ave.\, Unit 210\, Windsor\, ON)& Online via Zoom \n\n\n\n✔️In-Person RSVP below🖥️ Virtual RSVP via Zoom
URL:https://www.hackf.org/event/whats-your-favourite-browser-add-on/
LOCATION:Fogolar Furlan\, 1800 North Service Rd\, Windsor\, Ontario\, N8W 1Y3\, Canada
CATEGORIES:Hybrid
ATTACH;FMTTYPE=image/png:https://www.hackf.org/wp-content/uploads/2025/01/Favourite-Browser-Add-On-Website-750-x-250-px.png
END:VEVENT
END:VCALENDAR