BEGIN:VCALENDAR
VERSION:2.0
PRODID:-//Windsor Hackforge - ECPv6.15.20//NONSGML v1.0//EN
CALSCALE:GREGORIAN
METHOD:PUBLISH
X-WR-CALNAME:Windsor Hackforge
X-ORIGINAL-URL:https://www.hackf.org
X-WR-CALDESC:Events for Windsor Hackforge
REFRESH-INTERVAL;VALUE=DURATION:PT1H
X-Robots-Tag:noindex
X-PUBLISHED-TTL:PT1H
BEGIN:VTIMEZONE
TZID:America/Toronto
BEGIN:DAYLIGHT
TZOFFSETFROM:-0500
TZOFFSETTO:-0400
TZNAME:EDT
DTSTART:20240310T070000
END:DAYLIGHT
BEGIN:STANDARD
TZOFFSETFROM:-0400
TZOFFSETTO:-0500
TZNAME:EST
DTSTART:20241103T060000
END:STANDARD
BEGIN:DAYLIGHT
TZOFFSETFROM:-0500
TZOFFSETTO:-0400
TZNAME:EDT
DTSTART:20250309T070000
END:DAYLIGHT
BEGIN:STANDARD
TZOFFSETFROM:-0400
TZOFFSETTO:-0500
TZNAME:EST
DTSTART:20251102T060000
END:STANDARD
BEGIN:DAYLIGHT
TZOFFSETFROM:-0500
TZOFFSETTO:-0400
TZNAME:EDT
DTSTART:20260308T070000
END:DAYLIGHT
BEGIN:STANDARD
TZOFFSETFROM:-0400
TZOFFSETTO:-0500
TZNAME:EST
DTSTART:20261101T060000
END:STANDARD
END:VTIMEZONE
BEGIN:VEVENT
DTSTART;TZID=America/Toronto:20250120T180000
DTEND;TZID=America/Toronto:20250120T200000
DTSTAMP:20260424T042802
CREATED:20250107T191633Z
LAST-MODIFIED:20250111T164506Z
UID:2789-1737396000-1737403200@www.hackf.org
SUMMARY:GLOBAL GAME JAM KICKOFF
DESCRIPTION:📍 Hackforge HQ (300 Ouellette Ave\, Unit 210) & Online💻👥 Hybrid💲 Free \n\n\n\n🌟 Kickoff the 2025 Global Game Jam with Hackforge! 🌟 \n\n\n\nReady to dive into one of the most exciting global events in game development? Join us for our Global Game Jam Kickoff\, an evening designed to spark your creativity\, fuel your inspiration\, and get you pumped to create something amazing! \n\n\n\nWhether you’re a seasoned jammer or a first-timer\, this event will set the stage for a fun\, productive\, and collaborative week. \n\n\n\nOpen to all\, not just participants! \n\n\n\n📆 Jan 20\, 2025🕦6PM-8PM📍Hackforge HQ & Online via Discord \n\n\n\nRegister for Global Game Jam at globalgamejam.org \n\n\n\nCome for the knowledge\, stay for the community—and get ready to make something incredible! 🎨👾
URL:https://www.hackf.org/event/global-game-jam-kickoff/
LOCATION:Fogolar Furlan\, 1800 North Service Rd\, Windsor\, Ontario\, N8W 1Y3\, Canada
CATEGORIES:Hybrid
ATTACH;FMTTYPE=image/png:https://www.hackf.org/wp-content/uploads/2025/01/GGJ25-Kickoff-WEBSITE.png
END:VEVENT
END:VCALENDAR