BEGIN:VCALENDAR
VERSION:2.0
PRODID:-//Windsor Hackforge - ECPv6.15.20//NONSGML v1.0//EN
CALSCALE:GREGORIAN
METHOD:PUBLISH
X-ORIGINAL-URL:https://www.hackf.org
X-WR-CALDESC:Events for Windsor Hackforge
REFRESH-INTERVAL;VALUE=DURATION:PT1H
X-Robots-Tag:noindex
X-PUBLISHED-TTL:PT1H
BEGIN:VTIMEZONE
TZID:America/Toronto
BEGIN:DAYLIGHT
TZOFFSETFROM:-0500
TZOFFSETTO:-0400
TZNAME:EDT
DTSTART:20240310T070000
END:DAYLIGHT
BEGIN:STANDARD
TZOFFSETFROM:-0400
TZOFFSETTO:-0500
TZNAME:EST
DTSTART:20241103T060000
END:STANDARD
BEGIN:DAYLIGHT
TZOFFSETFROM:-0500
TZOFFSETTO:-0400
TZNAME:EDT
DTSTART:20250309T070000
END:DAYLIGHT
BEGIN:STANDARD
TZOFFSETFROM:-0400
TZOFFSETTO:-0500
TZNAME:EST
DTSTART:20251102T060000
END:STANDARD
BEGIN:DAYLIGHT
TZOFFSETFROM:-0500
TZOFFSETTO:-0400
TZNAME:EDT
DTSTART:20260308T070000
END:DAYLIGHT
BEGIN:STANDARD
TZOFFSETFROM:-0400
TZOFFSETTO:-0500
TZNAME:EST
DTSTART:20261101T060000
END:STANDARD
END:VTIMEZONE
BEGIN:VEVENT
DTSTART;TZID=America/Toronto:20250119T133000
DTEND;TZID=America/Toronto:20250119T153000
DTSTAMP:20260424T042936
CREATED:20250109T233703Z
LAST-MODIFIED:20250111T164315Z
UID:2810-1737293400-1737300600@www.hackf.org
SUMMARY:Get Ready to Jam: Game Jam Prep with Josh Sankarlal
DESCRIPTION:📍 Hackforge HQ (300 Ouellette Ave\, Unit 210) & Online💻👥 Hybrid💲 Free \n\n\n\nAre you gearing up for Global Game Jam 2025? Whether you’re a first-time participant or a seasoned pro\, this free hybrid event is designed to help you make the most of your game jam experience!Join Josh Sankarlal\, Canada’s GGJ Regional Organizer and a seasoned game developer\, as he shares invaluable tips\, tricks\, and strategies to help you succeed. With his deep knowledge of game development and years of experience with GGJ\, Josh is the perfect guide to get you ready to create something amazing.What You’ll LearnJosh will cover essential game jam topics\, including:🎮 Choosing the right game engine🎮 Scoping your game effectively🎮 Submitting your game smoothly🎮 Resources to help you jam like a pro \n\n\n\nHands-On SupportAttendees will also have the opportunity to ask questions\, and those joining us in-person should bring their game-making devices! After the presentation\, Josh will provide hands-on assistance with setting up your development platform—a valuable opportunity\, especially for beginners.(Please note: Individual help is not guaranteed\, and priority will be given to those who register in advance.) \n\n\n\nDon’t miss this chance to sharpen your skills\, connect with fellow game jammers\, and set yourself up for success at GGJ 2025. Mark your calendar\, register today\, and start preparing your questions! \n\n\n\n📆 Sunday\, January 19th🕦 1:30 – 3:30 PM📍Hackforge HQ (300 Ouellette Ave\, Unit 210) and Online via Zoom✔️RSVP Below in attend in-person in the box below🧑🏽‍💻Register to attend virtually via Zoom
URL:https://www.hackf.org/event/get-ready-to-jam-game-jam-prep-with-josh-sankarlal/
LOCATION:Fogolar Furlan\, 1800 North Service Rd\, Windsor\, Ontario\, N8W 1Y3\, Canada
CATEGORIES:Hybrid
ATTACH;FMTTYPE=image/png:https://www.hackf.org/wp-content/uploads/2025/01/Get-Ready-to-Jam-750-x-250-px-Website.png
END:VEVENT
END:VCALENDAR