BEGIN:VCALENDAR
VERSION:2.0
PRODID:-//Windsor Hackforge - ECPv6.15.20//NONSGML v1.0//EN
CALSCALE:GREGORIAN
METHOD:PUBLISH
X-WR-CALNAME:Windsor Hackforge
X-ORIGINAL-URL:https://www.hackf.org
X-WR-CALDESC:Events for Windsor Hackforge
REFRESH-INTERVAL;VALUE=DURATION:PT1H
X-Robots-Tag:noindex
X-PUBLISHED-TTL:PT1H
BEGIN:VTIMEZONE
TZID:America/Toronto
BEGIN:DAYLIGHT
TZOFFSETFROM:-0500
TZOFFSETTO:-0400
TZNAME:EDT
DTSTART:20240310T070000
END:DAYLIGHT
BEGIN:STANDARD
TZOFFSETFROM:-0400
TZOFFSETTO:-0500
TZNAME:EST
DTSTART:20241103T060000
END:STANDARD
BEGIN:DAYLIGHT
TZOFFSETFROM:-0500
TZOFFSETTO:-0400
TZNAME:EDT
DTSTART:20250309T070000
END:DAYLIGHT
BEGIN:STANDARD
TZOFFSETFROM:-0400
TZOFFSETTO:-0500
TZNAME:EST
DTSTART:20251102T060000
END:STANDARD
BEGIN:DAYLIGHT
TZOFFSETFROM:-0500
TZOFFSETTO:-0400
TZNAME:EDT
DTSTART:20260308T070000
END:DAYLIGHT
BEGIN:STANDARD
TZOFFSETFROM:-0400
TZOFFSETTO:-0500
TZNAME:EST
DTSTART:20261101T060000
END:STANDARD
END:VTIMEZONE
BEGIN:VEVENT
DTSTART;TZID=America/Toronto:20250113T180000
DTEND;TZID=America/Toronto:20250113T193000
DTSTAMP:20260424T042830
CREATED:20241217T184341Z
LAST-MODIFIED:20250113T191213Z
UID:2771-1736791200-1736796600@www.hackf.org
SUMMARY:Game-Making with AI
DESCRIPTION:📍 Hackforge HQ (300 Ouellette Ave\, Unit 210) & Online💻👥 Hybrid💲 Free \n\n\n\nAs we gear-up for the 2025 Global Game Jam\, we’ll be offering a series of events to get everyone feeling interested\, excited\, and confident about participating! \n\n\n\nWhile AI has really caught on in the last few years\, we were already playing (and losing) chess against computers in the 90’s. So were those computers intelligent? How did they know not only how to play the game\, but to play it well? \n\n\n\nThe answer is ‘Combinatorial Game Theory\,’ (CGT) and ‘Minimax’ (MM). Minimax is an implementation of the ideas about winning moves for zero-sum games put forward by CGT. \n\n\n\nIn this intermediate-level session\, Doug Sartori will walk through a demonstration of how CGT and MM can be used in basic games (think Go\, Tic-Tac-Toe\, and checkers). Using Javascript\, he’ll walk through the concept\, math\, and code\, enabling you to use these theories in your own game-making. \n\n\n\n📆 Monday\, January 13\, 2025🕦 6 – 7:30 PM📍Hackforge HQ (300 Ouellette\, Unit 210)and online via Zoom \n\n\n\n✔️In-Person RSVP below🖥️ Virtual RSVP via Zoom \n\n\n\nWant to learn more? Check out this article on CGT in AI
URL:https://www.hackf.org/event/game-making-with-ai/
LOCATION:Fogolar Furlan\, 1800 North Service Rd\, Windsor\, Ontario\, N8W 1Y3\, Canada
CATEGORIES:Hybrid
ATTACH;FMTTYPE=image/png:https://www.hackf.org/wp-content/uploads/2024/12/Game-Making-with-AI-Website-1.png
END:VEVENT
END:VCALENDAR