BEGIN:VCALENDAR
VERSION:2.0
PRODID:-//Windsor Hackforge - ECPv6.15.20//NONSGML v1.0//EN
CALSCALE:GREGORIAN
METHOD:PUBLISH
X-ORIGINAL-URL:https://www.hackf.org
X-WR-CALDESC:Events for Windsor Hackforge
REFRESH-INTERVAL;VALUE=DURATION:PT1H
X-Robots-Tag:noindex
X-PUBLISHED-TTL:PT1H
BEGIN:VTIMEZONE
TZID:America/Toronto
BEGIN:DAYLIGHT
TZOFFSETFROM:-0500
TZOFFSETTO:-0400
TZNAME:EDT
DTSTART:20230312T070000
END:DAYLIGHT
BEGIN:STANDARD
TZOFFSETFROM:-0400
TZOFFSETTO:-0500
TZNAME:EST
DTSTART:20231105T060000
END:STANDARD
BEGIN:DAYLIGHT
TZOFFSETFROM:-0500
TZOFFSETTO:-0400
TZNAME:EDT
DTSTART:20240310T070000
END:DAYLIGHT
BEGIN:STANDARD
TZOFFSETFROM:-0400
TZOFFSETTO:-0500
TZNAME:EST
DTSTART:20241103T060000
END:STANDARD
BEGIN:DAYLIGHT
TZOFFSETFROM:-0500
TZOFFSETTO:-0400
TZNAME:EDT
DTSTART:20250309T070000
END:DAYLIGHT
BEGIN:STANDARD
TZOFFSETFROM:-0400
TZOFFSETTO:-0500
TZNAME:EST
DTSTART:20251102T060000
END:STANDARD
END:VTIMEZONE
BEGIN:VEVENT
DTSTART;TZID=America/Toronto:20240909T180000
DTEND;TZID=America/Toronto:20240909T193000
DTSTAMP:20260424T094841
CREATED:20240904T134322Z
LAST-MODIFIED:20240904T143345Z
UID:2425-1725904800-1725910200@www.hackf.org
SUMMARY:Windsor-Detroit's Digital Twin Pt.III
DESCRIPTION:📍 Hackforge HQ (300 Ouellette Ave\, Unit 210) and Online via Zoom💻👥 Hybrid💲 Free \n\n\n\nFirst introduced to us in early 2022\, the Digital Twin project of Windsor & Detroit is an initiative to build an advanced urban planning tool that is accessible to the community. Spearheaded by Geopogo Cities\, this project looks to create a powerful public tool that combines civic data layers\, 3D LiDAR scan data\, and SimCity-like features to empower community groups and design visionaries to realize their ideas for what Windsor can become. \n\n\n\nCheck out the recording from that event on our Youtube page! \n\n\n\nLater that year Geopogo Creative Director Mike Hoppe came back to share how the project had evolved. That session was also recorded! \n\n\n\nThis month Mike is returning once again – and this time in person! In our past events Mike was joining virtually from San Francisco\, but this time around he’s in Windsor and will be stopping by Hackforge HQ. \n\n\n\nJoin us on Monday\, September 9th at 6pm to see the newest iteration of Windsor’s Digital Twin. This is a hybrid session\, so you can come in person or join us online. As always\, everyone is welcome and there is no cost to attend. \n\n\n\n📅 Monday\, September 9th⌚ 6 – 7:30 PM📍 Hackforge HQ (300 Ouellette Ave\, Unit 210) and Online via Zoom \n\n\n\nRegister to attend In-Person in the RSVP box belowRegister to attend Virtually via Zoom.
URL:https://www.hackf.org/event/windsor-detroits-digital-twin-pt-iii/
LOCATION:Fogolar Furlan\, 1800 North Service Rd\, Windsor\, Ontario\, N8W 1Y3\, Canada
CATEGORIES:Hybrid
END:VEVENT
END:VCALENDAR