BEGIN:VCALENDAR
VERSION:2.0
PRODID:-//Windsor Hackforge - ECPv6.15.20//NONSGML v1.0//EN
CALSCALE:GREGORIAN
METHOD:PUBLISH
X-WR-CALNAME:Windsor Hackforge
X-ORIGINAL-URL:https://www.hackf.org
X-WR-CALDESC:Events for Windsor Hackforge
REFRESH-INTERVAL;VALUE=DURATION:PT1H
X-Robots-Tag:noindex
X-PUBLISHED-TTL:PT1H
BEGIN:VTIMEZONE
TZID:America/Toronto
BEGIN:DAYLIGHT
TZOFFSETFROM:-0500
TZOFFSETTO:-0400
TZNAME:EDT
DTSTART:20230312T070000
END:DAYLIGHT
BEGIN:STANDARD
TZOFFSETFROM:-0400
TZOFFSETTO:-0500
TZNAME:EST
DTSTART:20231105T060000
END:STANDARD
BEGIN:DAYLIGHT
TZOFFSETFROM:-0500
TZOFFSETTO:-0400
TZNAME:EDT
DTSTART:20240310T070000
END:DAYLIGHT
BEGIN:STANDARD
TZOFFSETFROM:-0400
TZOFFSETTO:-0500
TZNAME:EST
DTSTART:20241103T060000
END:STANDARD
BEGIN:DAYLIGHT
TZOFFSETFROM:-0500
TZOFFSETTO:-0400
TZNAME:EDT
DTSTART:20250309T070000
END:DAYLIGHT
BEGIN:STANDARD
TZOFFSETFROM:-0400
TZOFFSETTO:-0500
TZNAME:EST
DTSTART:20251102T060000
END:STANDARD
END:VTIMEZONE
BEGIN:VEVENT
DTSTART;TZID=America/Toronto:20240718T180000
DTEND;TZID=America/Toronto:20240718T200000
DTSTAMP:20260424T122340
CREATED:20240703T162547Z
LAST-MODIFIED:20240716T140420Z
UID:2200-1721325600-1721332800@www.hackf.org
SUMMARY:Border City Data: Public Art Data in Windsor & Detroit
DESCRIPTION:📍Hackforge HQ\, (300 Ouellette Ave\, Unit 210)👥💻 Hybrid \n\n\n\nHackforge has recently partnered with and supported Parallel 42 Systems for the release of MotorCityMurals.Tours. This free-to-use web app provides directions to and information about various street art paintings in the downtowns of both Windsor\, Ontario and Detroit\, Michigan. \n\n\n\nIn this month’s edition of Border City Data\, Doug Sartori will be going through the process of how this data was collected\, organized\, and ultimately made into a digital tour guide. \n\n\n\nTune in to learn about geocoding\, OpenStreetMap\, Pytheas\, and how Motor City Murals respects user data and privacy. \n\n\n\n📅 Thursday\, July 18th \n\n\n\n⌚ 6 – 8 PM \n\n\n\nRegister to attend In-Person in the RSVP box below \n\n\n\nRegister to attend Virtually via Zoom.
URL:https://www.hackf.org/event/border-city-data-public-art-data-in-windsor-detroit/
LOCATION:Fogolar Furlan\, 1800 North Service Rd\, Windsor\, Ontario\, N8W 1Y3\, Canada
CATEGORIES:Hybrid
END:VEVENT
END:VCALENDAR