BEGIN:VCALENDAR
VERSION:2.0
PRODID:-//Windsor Hackforge - ECPv6.15.20//NONSGML v1.0//EN
CALSCALE:GREGORIAN
METHOD:PUBLISH
X-ORIGINAL-URL:https://www.hackf.org
X-WR-CALDESC:Events for Windsor Hackforge
REFRESH-INTERVAL;VALUE=DURATION:PT1H
X-Robots-Tag:noindex
X-PUBLISHED-TTL:PT1H
BEGIN:VTIMEZONE
TZID:America/Toronto
BEGIN:DAYLIGHT
TZOFFSETFROM:-0500
TZOFFSETTO:-0400
TZNAME:EDT
DTSTART:20230312T070000
END:DAYLIGHT
BEGIN:STANDARD
TZOFFSETFROM:-0400
TZOFFSETTO:-0500
TZNAME:EST
DTSTART:20231105T060000
END:STANDARD
BEGIN:DAYLIGHT
TZOFFSETFROM:-0500
TZOFFSETTO:-0400
TZNAME:EDT
DTSTART:20240310T070000
END:DAYLIGHT
BEGIN:STANDARD
TZOFFSETFROM:-0400
TZOFFSETTO:-0500
TZNAME:EST
DTSTART:20241103T060000
END:STANDARD
BEGIN:DAYLIGHT
TZOFFSETFROM:-0500
TZOFFSETTO:-0400
TZNAME:EDT
DTSTART:20250309T070000
END:DAYLIGHT
BEGIN:STANDARD
TZOFFSETFROM:-0400
TZOFFSETTO:-0500
TZNAME:EST
DTSTART:20251102T060000
END:STANDARD
END:VTIMEZONE
BEGIN:VEVENT
DTSTART;TZID=America/Toronto:20240630T110000
DTEND;TZID=America/Toronto:20240630T123000
DTSTAMP:20260424T140030
CREATED:20240601T025957Z
LAST-MODIFIED:20240630T151909Z
UID:1952-1719745200-1719750600@www.hackf.org
SUMMARY:Create Your Own Local ChatGPT
DESCRIPTION:📍Hackforge HQ\, (300 Ouellette Ave\, Unit 210)👥💻 Hybrid \n\n\n\nEvent Overview:\n\n\n\nUnlock the secrets of building your own Local ChatGPT at our hands-on workshop! Dive into the fascinating world of Local Language Models (LLMs) and learn how to harness the power of AI to create personalized\, efficient\, and private conversational agents.📅 Sunday\, June 30th \n\n\n\n⌚ 11 AM – 12:30 PM \n\n\n\n💲 Free \n\n\n\nRegister to attend In-Person in the RSVP box below \n\n\n\nRegister to attend Virtually via Zoom. \n\n\n\nWhat You’ll Learn:\n\n\n\n\nIntroduction to Local Language Models (LLMs)\n\n\n\nStep-by-step guide to setting up and configuring a local environment for LLMs\n\n\n\nPractical applications and use cases for Local ChatGPT\n\n\n\n\nWho Should Attend:\n\n\n\n\nAI enthusiasts and professionals looking to deepen their knowledge\n\n\n\nDevelopers and tech hobbyists interested in building custom AI solutions\n\n\n\nStudents and educators eager to explore cutting-edge technology\n\n\n\nAnyone curious about the future of AI and its local applications\n\n\n\n\nWhy Attend:\n\n\n\n\nGain practical\, hands-on experience with local LLMs\n\n\n\nLearn from experienced AI instructors and industry experts\n\n\n\nNetwork with like-minded individuals and expand your professional connections\n\n\n\nReceive resources and support to continue your AI journey beyond the event\n\n\n\n\nJoin us on Sunday\, June 30th\, for an exciting and educational experience that will empower you to create your own Local ChatGPT. Don’t miss this opportunity to stay ahead in the rapidly evolving field of AI!
URL:https://www.hackf.org/event/create-your-own-local-chatgpt/
LOCATION:Fogolar Furlan\, 1800 North Service Rd\, Windsor\, Ontario\, N8W 1Y3\, Canada
CATEGORIES:Hybrid
END:VEVENT
END:VCALENDAR