BEGIN:VCALENDAR
VERSION:2.0
PRODID:-//Windsor Hackforge - ECPv6.15.20//NONSGML v1.0//EN
CALSCALE:GREGORIAN
METHOD:PUBLISH
X-ORIGINAL-URL:https://www.hackf.org
X-WR-CALDESC:Events for Windsor Hackforge
REFRESH-INTERVAL;VALUE=DURATION:PT1H
X-Robots-Tag:noindex
X-PUBLISHED-TTL:PT1H
BEGIN:VTIMEZONE
TZID:America/Toronto
BEGIN:DAYLIGHT
TZOFFSETFROM:-0500
TZOFFSETTO:-0400
TZNAME:EDT
DTSTART:20230312T070000
END:DAYLIGHT
BEGIN:STANDARD
TZOFFSETFROM:-0400
TZOFFSETTO:-0500
TZNAME:EST
DTSTART:20231105T060000
END:STANDARD
BEGIN:DAYLIGHT
TZOFFSETFROM:-0500
TZOFFSETTO:-0400
TZNAME:EDT
DTSTART:20240310T070000
END:DAYLIGHT
BEGIN:STANDARD
TZOFFSETFROM:-0400
TZOFFSETTO:-0500
TZNAME:EST
DTSTART:20241103T060000
END:STANDARD
BEGIN:DAYLIGHT
TZOFFSETFROM:-0500
TZOFFSETTO:-0400
TZNAME:EDT
DTSTART:20250309T070000
END:DAYLIGHT
BEGIN:STANDARD
TZOFFSETFROM:-0400
TZOFFSETTO:-0500
TZNAME:EST
DTSTART:20251102T060000
END:STANDARD
END:VTIMEZONE
BEGIN:VEVENT
DTSTART;TZID=America/Toronto:20240618T190000
DTEND;TZID=America/Toronto:20240618T210000
DTSTAMP:20260424T140102
CREATED:20240601T000451Z
LAST-MODIFIED:20240601T000451Z
UID:1957-1718737200-1718744400@www.hackf.org
SUMMARY:Discover the Power of Agile: A Comprehensive Introduction to Agile Development
DESCRIPTION:📍Hackforge HQ\, (300 Ouellette Ave\, Unit 210)👥💻 Hybrid \n\n\n\nAgile methodology is a standard project management technique\, used by companies in Windsor-Essex and around the world. Emphasizing iterative development and continuous improvement\, Agile allows teams to be nimble and efficient.   \n\n\n\nThis presentation introduces Agile methodology to developers and anyone interested in learning more about Agile.  Including covering its core principles\, key practices\, and benefits\, it aims to provide a foundational understanding of Agile\, highlighting its flexibility\, customer-focused approach\, and real-world success stories. \n\n\n\nIn this free introductory session\, attendees will learn from seasoned Agile practitioner Kathie Gifford.  \n\n\n\nKathie currently holds certifications for Agile:  Scrum Master (Level II)  Disciplined Agile Scrum Master\, Product Owner\, PMP (Project Management Professional) and Lean Agile Green Belt.  She is currently a Process Manager for Automation at a local financial institution and uses agile principles and methods in her work with multiple departments\, teams and squads. \n\n\n\nShow up with little to no knowledge of Agile\, and leave with an understanding of the fundamentals! This event will sell out! Registration is highly encouraged\, but please be respectful – don’t register if you don’t intend to join. On the day of the event\, those who pre-registered will be given priority access\, and remaining spaces will be available on a first-come\, first-served basis. \n\n\n\n📅 Tuesday\, June 18th \n\n\n\n⏲ 7 – 9 PM \n\n\n\n📍 Hackforge HQ (300 Ouellette\, Unit 210) \n\n\n\nRegister to attend In-Person in the RSVP box below \n\n\n\nRegister to attend Virtually via Zoom.
URL:https://www.hackf.org/event/discover-the-power-of-agile-a-comprehensive-introduction-to-agile-development/
LOCATION:Fogolar Furlan\, 1800 North Service Rd\, Windsor\, Ontario\, N8W 1Y3\, Canada
CATEGORIES:Hybrid
END:VEVENT
END:VCALENDAR