BEGIN:VCALENDAR
VERSION:2.0
PRODID:-//Windsor Hackforge - ECPv6.15.20//NONSGML v1.0//EN
CALSCALE:GREGORIAN
METHOD:PUBLISH
X-WR-CALNAME:Windsor Hackforge
X-ORIGINAL-URL:https://www.hackf.org
X-WR-CALDESC:Events for Windsor Hackforge
REFRESH-INTERVAL;VALUE=DURATION:PT1H
X-Robots-Tag:noindex
X-PUBLISHED-TTL:PT1H
BEGIN:VTIMEZONE
TZID:America/Toronto
BEGIN:DAYLIGHT
TZOFFSETFROM:-0500
TZOFFSETTO:-0400
TZNAME:EDT
DTSTART:20230312T070000
END:DAYLIGHT
BEGIN:STANDARD
TZOFFSETFROM:-0400
TZOFFSETTO:-0500
TZNAME:EST
DTSTART:20231105T060000
END:STANDARD
BEGIN:DAYLIGHT
TZOFFSETFROM:-0500
TZOFFSETTO:-0400
TZNAME:EDT
DTSTART:20240310T070000
END:DAYLIGHT
BEGIN:STANDARD
TZOFFSETFROM:-0400
TZOFFSETTO:-0500
TZNAME:EST
DTSTART:20241103T060000
END:STANDARD
BEGIN:DAYLIGHT
TZOFFSETFROM:-0500
TZOFFSETTO:-0400
TZNAME:EDT
DTSTART:20250309T070000
END:DAYLIGHT
BEGIN:STANDARD
TZOFFSETFROM:-0400
TZOFFSETTO:-0500
TZNAME:EST
DTSTART:20251102T060000
END:STANDARD
END:VTIMEZONE
BEGIN:VEVENT
DTSTART;TZID=America/Toronto:20240528T190000
DTEND;TZID=America/Toronto:20240528T200000
DTSTAMP:20260424T135939
CREATED:20240430T173413Z
LAST-MODIFIED:20240506T194739Z
UID:1594-1716922800-1716926400@www.hackf.org
SUMMARY:Unleashing Creativity with AWS: A Live Demo of Generative AI Magic!
DESCRIPTION:📍Hackforge HQ\, (300 Ouellette Ave\, Unit 210)👥💻 Hybrid \n\n\n\n \n\n\n\nJoin us for an electrifying evening at our next AWS User Group Meetup! This session is a must-attend for enthusiasts and professionals eager to dive into the cutting-edge world of AWS Generative AI. Whether you’re a developer\, a project manager\, or just passionate about AI technology\, this gathering is the perfect opportunity to enrich your understanding and skills. \n\n\n\nWe’ll kick off with an engaging discussion on the latest AWS Generative AI offerings\, exploring how these powerful tools are transforming the tech landscape. Prepare to gain insights that could revolutionize how you approach AI in your projects or business. \n\n\n\nThe highlight of the evening will be a live demonstration\, where you’ll witness the magic of Generative AI firsthand. We’ll showcase how AI prompt is the new user interface. We’ll interact with an application using natural language instead of using UI.  \n\n\n\nDon’t miss the chance to network with fellow AWS aficionados\, share your experiences\, and perhaps even spark collaborations that could lead to the next big innovation in AI. Bring your curiosity\, bring your questions\, and let’s explore the future of AI together! \n\n\n\n📅 Tuesday\, May 28 \n\n\n\n⏲ 7 – 8 PM \n\n\n\n📍 Hackforge HQ\, 300 Ouellette Ave\, Unit 210 and Zoom
URL:https://www.hackf.org/event/unleashing-creativity-with-aws-a-live-demo-of-generative-ai-magic/
LOCATION:Fogolar Furlan\, 1800 North Service Rd\, Windsor\, Ontario\, N8W 1Y3\, Canada
CATEGORIES:Hybrid
END:VEVENT
END:VCALENDAR