BEGIN:VCALENDAR
VERSION:2.0
PRODID:-//Windsor Hackforge - ECPv6.15.20//NONSGML v1.0//EN
CALSCALE:GREGORIAN
METHOD:PUBLISH
X-WR-CALNAME:Windsor Hackforge
X-ORIGINAL-URL:https://www.hackf.org
X-WR-CALDESC:Events for Windsor Hackforge
REFRESH-INTERVAL;VALUE=DURATION:PT1H
X-Robots-Tag:noindex
X-PUBLISHED-TTL:PT1H
BEGIN:VTIMEZONE
TZID:America/Toronto
BEGIN:DAYLIGHT
TZOFFSETFROM:-0500
TZOFFSETTO:-0400
TZNAME:EDT
DTSTART:20230312T070000
END:DAYLIGHT
BEGIN:STANDARD
TZOFFSETFROM:-0400
TZOFFSETTO:-0500
TZNAME:EST
DTSTART:20231105T060000
END:STANDARD
BEGIN:DAYLIGHT
TZOFFSETFROM:-0500
TZOFFSETTO:-0400
TZNAME:EDT
DTSTART:20240310T070000
END:DAYLIGHT
BEGIN:STANDARD
TZOFFSETFROM:-0400
TZOFFSETTO:-0500
TZNAME:EST
DTSTART:20241103T060000
END:STANDARD
BEGIN:DAYLIGHT
TZOFFSETFROM:-0500
TZOFFSETTO:-0400
TZNAME:EDT
DTSTART:20250309T070000
END:DAYLIGHT
BEGIN:STANDARD
TZOFFSETFROM:-0400
TZOFFSETTO:-0500
TZNAME:EST
DTSTART:20251102T060000
END:STANDARD
END:VTIMEZONE
BEGIN:VEVENT
DTSTART;TZID=America/Toronto:20240402T190000
DTEND;TZID=America/Toronto:20240402T200000
DTSTAMP:20260424T171038
CREATED:20240328T003519Z
LAST-MODIFIED:20240403T043046Z
UID:1441-1712084400-1712088000@www.hackf.org
SUMMARY:Fortify Your Web Applications with AWS WAF!
DESCRIPTION:📍Hackforge HQ\, (300 Ouellette Ave\, Unit 210)👥💻 Hybrid \n\n\n\nPrepare for an exciting exploration into web application security! In this dynamic event\, we’ll dive deep into the fundamentals of AWS WAF (Web Application Firewall) and uncover how it can enhance your ability to protect your digital assets. Don’t miss out on the chance to learn about the core concepts of AWS WAF and its role in your security strategy. You’ll have the opportunity to explore real-world examples and success stories of organizations strengthening their web applications with AWS WAF. Additionally\, you’ll discover best practices for configuring\, monitoring\, and optimizing AWS WAF to defend against evolving threats. This is an invaluable opportunity to enhance your understanding of web application security and empower yourself to better protect your digital assets. In today’s digital world\, safeguarding your web applications is essential. Join us to harness the capabilities of AWS WAF and equip yourself with the knowledge and resources necessary to stay ahead of cyber threats. 🔗 Register via zoom to join virtually.This event is free and hybrid\, but keep in mind that you MUST BE PRESENT @HACKFORGE TO WIN PRIZES – SOLAR ECLIPSE GLASSES ECLIPSE GUARD by CELESTIAL OPTICAL ISO 12312-2!
URL:https://www.hackf.org/event/fortify-your-web-applications-with-aws-waf/
LOCATION:Fogolar Furlan\, 1800 North Service Rd\, Windsor\, Ontario\, N8W 1Y3\, Canada
CATEGORIES:Hybrid
END:VEVENT
END:VCALENDAR