BEGIN:VCALENDAR
VERSION:2.0
PRODID:-//Windsor Hackforge - ECPv6.15.20//NONSGML v1.0//EN
CALSCALE:GREGORIAN
METHOD:PUBLISH
X-ORIGINAL-URL:https://www.hackf.org
X-WR-CALDESC:Events for Windsor Hackforge
REFRESH-INTERVAL;VALUE=DURATION:PT1H
X-Robots-Tag:noindex
X-PUBLISHED-TTL:PT1H
BEGIN:VTIMEZONE
TZID:America/Toronto
BEGIN:DAYLIGHT
TZOFFSETFROM:-0500
TZOFFSETTO:-0400
TZNAME:EDT
DTSTART:20240310T070000
END:DAYLIGHT
BEGIN:STANDARD
TZOFFSETFROM:-0400
TZOFFSETTO:-0500
TZNAME:EST
DTSTART:20241103T060000
END:STANDARD
BEGIN:DAYLIGHT
TZOFFSETFROM:-0500
TZOFFSETTO:-0400
TZNAME:EDT
DTSTART:20250309T070000
END:DAYLIGHT
BEGIN:STANDARD
TZOFFSETFROM:-0400
TZOFFSETTO:-0500
TZNAME:EST
DTSTART:20251102T060000
END:STANDARD
BEGIN:DAYLIGHT
TZOFFSETFROM:-0500
TZOFFSETTO:-0400
TZNAME:EDT
DTSTART:20260308T070000
END:DAYLIGHT
BEGIN:STANDARD
TZOFFSETFROM:-0400
TZOFFSETTO:-0500
TZNAME:EST
DTSTART:20261101T060000
END:STANDARD
END:VTIMEZONE
BEGIN:VEVENT
DTSTART;TZID=America/Toronto:20251104T183000
DTEND;TZID=America/Toronto:20251104T200000
DTSTAMP:20260423T130036
CREATED:20251025T143908Z
LAST-MODIFIED:20251025T144208Z
UID:3510-1762281000-1762286400@www.hackf.org
SUMMARY:AWS - Modern CDN Wizardry: Mastering the Magic
DESCRIPTION:📍 Hackforge HQ (300 Ouellette Ave\, Unit 210) & Online💻👥 Hybrid💲 Free \n\n\n\n🚀 Ready to master the magic of modern content delivery? \n\n\n\nMake everything your users touch online from photos to full web apps\, APIs\, and interactive experiences better\, faster\, more secure. \n\n\n\nJoin us on Tuesday\, Nov 4 at 6:30 PM at Hackforge HQ & on Zoom for the next Windsor AWS User Group Meetup: \n\n\n\n🎩 Modern CDN Wizardry: Mastering the Magic \n\n\n\nGet ready to uncover the secrets behind lightning-fast\, globally optimized experiences that feel like pure magic. \n\n\n\n⭐Deliver massive global static sites at ultra-low cost⚡Accelerate dynamic APIs across continents🧙Secure entire workloads before traffic hits your backend🧙 Add intelligence\, personalization\, and edge-powered compute that makes apps feel instantly responsive \n\n\n\nWhether you build for scale\, speed\, or security\, this session will show you how to turn the edge into your competitive advantage. \n\n\n\n🗓️ Date: Tuesday\, Nov 4⏱️ Time: 6:30 -8 PM📍 Location: Hackforge HQ (300 Ouellette Ave.\, Suite 210) & Online via Zoom🎟️RSVP for In-Person attendance below💻Register for virtual attendance via ZoomSeats fill fast — RSVP today and bring a friend who loves tech! \n\n\n\nCome learn\, connect\, and level up your AWS cloud skills with Windsor’s growing cloud community. \n\n\n\n🎁Plus\, you will win some exclusive AWS swag just for joining us!
URL:https://www.hackf.org/event/aws-modern-cdn-wizardry-mastering-the-magic/
LOCATION:Fogolar Furlan\, 1800 North Service Rd\, Windsor\, Ontario\, N8W 1Y3\, Canada
CATEGORIES:Hybrid
ATTACH;FMTTYPE=image/png:https://www.hackf.org/wp-content/uploads/2025/10/Modern-CDN-750-x-250-px.png
END:VEVENT
BEGIN:VEVENT
DTSTART;TZID=America/Toronto:20251114T180000
DTEND;TZID=America/Toronto:20251114T200000
DTSTAMP:20260423T130036
CREATED:20251028T134546Z
LAST-MODIFIED:20251028T221042Z
UID:3540-1763143200-1763150400@www.hackf.org
SUMMARY:What I Learned Building My Own AI Agent: An Evening with Doug Sartori
DESCRIPTION:📍 Hackforge HQ (300 Ouellette Ave\, Unit 210) & Online💻👥 Hybrid💲 Free \n\n\n\nEver wondered what it takes to build your own AI agent from scratch? Join Doug Sartori (Parallel 42 Systems) for a behind-the-scenes look at what he’s learned on his journey creating a fully functional AI assistant using Python.  \n\n\n\nKey Takeaways: \n\n\n\n🔌Connecting your AI to tools☁️Cloud vs. local models for this use case🔒Security and privacy considerations \n\n\n\nWhether you’re an AI enthusiast\, a Python tinkerer\, or just curious about the future of personal agents\, this talk will give you the insights (and cautionary tales) you need to start your own build. \n\n\n\n📆 Nov. 14🕦 6-8PM📍Hackforge HQ (300 Ouellette Ave.\, Suite 210) & Online via Zoom🎟️RSVP for In-Person attendance below💻Register for virtual attendance via Zoom
URL:https://www.hackf.org/event/building-my-own-ai-agent/
LOCATION:Fogolar Furlan\, 1800 North Service Rd\, Windsor\, Ontario\, N8W 1Y3\, Canada
CATEGORIES:Hybrid
ATTACH;FMTTYPE=image/png:https://www.hackf.org/wp-content/uploads/2025/10/What-I-Learned-Building-my-Own-AI-Agent-750-x-250-px-WEB.png
END:VEVENT
BEGIN:VEVENT
DTSTART;TZID=America/Toronto:20251119T180000
DTEND;TZID=America/Toronto:20251119T200000
DTSTAMP:20260423T130036
CREATED:20251027T210822Z
LAST-MODIFIED:20251104T154419Z
UID:3530-1763575200-1763582400@www.hackf.org
SUMMARY:Celebrate GIS day!
DESCRIPTION:📍 Hackforge HQ (300 Ouellette Ave\, Unit 210) & Online💻👥 Hybrid💲 Free \n\n\n\nThis event is an official esri GIS Day event! Curious about the spatial side of data science? Announcing the launch of Windsor-Essex GIS (weGIS)\, a brand-new Hackforge group dedicated to the dynamic and ever-evolving world of geographic information systems! And there’s no better time to kick this thing off than GIS Day (November 19th)\, a global celebration of GIS as a technology and industry. \n\n\n\nJoin Theo Walschots on this special day as he goes over a primer on GIS\, the goal of Hackforge weGIS\, as well as what kind of content and events you can expect in the future. This group is for all experience levels and will aim to be as accessible as possible by leveraging free\, open-source software. Please don’t hesitate to come out!  \n\n\n\nAfter the debrief there will be time for cake and discussion as we celebrate yet another thriving and successful year in GIS! 🎂🌎Learn more about GIS and GIS Day at www.gisday.com🎂Did we mention there will be cake?  \n\n\n\n📆 Nov 19🕦 6-8PM📍Hackforge HQ (300 Ouellette Ave.\, Unit 210) & Online via Zoom🎟️RSVP for In-Person attendance below💻Register for virtual attendance via Zoom
URL:https://www.hackf.org/event/celebrate-gis-day/
LOCATION:Fogolar Furlan\, 1800 North Service Rd\, Windsor\, Ontario\, N8W 1Y3\, Canada
CATEGORIES:Hybrid
ATTACH;FMTTYPE=image/png:https://www.hackf.org/wp-content/uploads/2025/10/GIS-Day-Celebration-Hackforge.png
END:VEVENT
BEGIN:VEVENT
DTSTART;TZID=America/Toronto:20251128T180000
DTEND;TZID=America/Toronto:20251128T200000
DTSTAMP:20260423T130036
CREATED:20251027T214631Z
LAST-MODIFIED:20251128T213121Z
UID:3534-1764352800-1764360000@www.hackf.org
SUMMARY:Building Smarter Chatbots
DESCRIPTION:📍 Hackforge HQ (300 Ouellette Ave\, Unit 210) & Online💻👥 Hybrid💲 Free \n\n\n\nModern AI is powerful but it doesn’t know your business.  \n\n\n\nIn this live demo\,  Raneem Ghalion\, AI Business Strategy Consultant (Adopli AI) will demonstrate how Retrieval-Augmented Generation (RAG) connects a language model to your own data for accurate\, context-aware answers.  \n\n\n\nYou’ll see a working prototype built live\, understand the workflow (LLM + vector database + pipeline)\, and leave with a clear checklist to ship your first data-aware chatbot. \n\n\n\nKey takeaways: \n\n\n\n\nHow retrieval + generation work together\n\n\n\nMinimum viable RAG stack (LangChain\, Pinecone\, Bedrock\, n8n)\n\n\n\nSteps to connect your own docs and deploy\n\n\n\n\nFormat: 20-min intro → 45-min live RAG build (LLM + vector DB + data pipeline) → 20-min Q&A → 15-min networking \n\n\n\n📆 Fri.\, Nov. 28\, 2025🕦 6-8 PM📍Hackforge HQ & Online via Zoom🎟️RSVP for In-Person attendance below💻Register for virtual attendance via Zoom
URL:https://www.hackf.org/event/building-smarter-chatbots/
LOCATION:Fogolar Furlan\, 1800 North Service Rd\, Windsor\, Ontario\, N8W 1Y3\, Canada
CATEGORIES:Hybrid
ATTACH;FMTTYPE=image/png:https://www.hackf.org/wp-content/uploads/2025/10/Building-Smarter-Chatbots-750-x-250-px-Web-1.png
END:VEVENT
END:VCALENDAR