BEGIN:VCALENDAR
VERSION:2.0
PRODID:-//Windsor Hackforge - ECPv6.15.20//NONSGML v1.0//EN
CALSCALE:GREGORIAN
METHOD:PUBLISH
X-ORIGINAL-URL:https://www.hackf.org
X-WR-CALDESC:Events for Windsor Hackforge
REFRESH-INTERVAL;VALUE=DURATION:PT1H
X-Robots-Tag:noindex
X-PUBLISHED-TTL:PT1H
BEGIN:VTIMEZONE
TZID:America/Toronto
BEGIN:DAYLIGHT
TZOFFSETFROM:-0500
TZOFFSETTO:-0400
TZNAME:EDT
DTSTART:20240310T070000
END:DAYLIGHT
BEGIN:STANDARD
TZOFFSETFROM:-0400
TZOFFSETTO:-0500
TZNAME:EST
DTSTART:20241103T060000
END:STANDARD
BEGIN:DAYLIGHT
TZOFFSETFROM:-0500
TZOFFSETTO:-0400
TZNAME:EDT
DTSTART:20250309T070000
END:DAYLIGHT
BEGIN:STANDARD
TZOFFSETFROM:-0400
TZOFFSETTO:-0500
TZNAME:EST
DTSTART:20251102T060000
END:STANDARD
BEGIN:DAYLIGHT
TZOFFSETFROM:-0500
TZOFFSETTO:-0400
TZNAME:EDT
DTSTART:20260308T070000
END:DAYLIGHT
BEGIN:STANDARD
TZOFFSETFROM:-0400
TZOFFSETTO:-0500
TZNAME:EST
DTSTART:20261101T060000
END:STANDARD
END:VTIMEZONE
BEGIN:VEVENT
DTSTART;TZID=America/Toronto:20250611T190000
DTEND;TZID=America/Toronto:20250611T203000
DTSTAMP:20260423T195351
CREATED:20250604T222704Z
LAST-MODIFIED:20250609T144755Z
UID:3208-1749668400-1749673800@www.hackf.org
SUMMARY:AI Gets Context: Integrating Model Context Protocol Servers Into Open WebUI
DESCRIPTION:📍 Hackforge HQ (300 Ouellette Ave\, Unit 210) & Online💻👥 Hybrid💲 Free \n\n\n\nTired of hallucinations? Want your local LLM to know the date\, access Wikipedia or get the latest sports scores? MCP has you covered. \n\n\n\nJoin Doug Sartori (Hackforge\, Parallel 42) in this live demonstration and discussion. \n\n\n\nMCP is an open standard for providing tools to Large Language Models. Doug Sartori explains how to get an MCP proxy set up with OpenWebUI and demonstrates the potential and the pitfalls of this technology \n\n\n\n📆 June 11\, 2025🕦 7-8:30 PM📍Hackforge HQ (300 Ouellette Ave\, Unit 210) & Online via Zoom🎫 RSVP for In-Person below🖥️ Virtual RSVP via Zoom
URL:https://www.hackf.org/event/ai-gets-context/
LOCATION:Fogolar Furlan\, 1800 North Service Rd\, Windsor\, Ontario\, N8W 1Y3\, Canada
CATEGORIES:Hybrid
ATTACH;FMTTYPE=image/png:https://www.hackf.org/wp-content/uploads/2025/06/AI-Gets-Context-WEB-750-x-250-px-1.png
END:VEVENT
END:VCALENDAR