BEGIN:VCALENDAR
VERSION:2.0
PRODID:-//Windsor Hackforge - ECPv6.15.20//NONSGML v1.0//EN
CALSCALE:GREGORIAN
METHOD:PUBLISH
X-ORIGINAL-URL:https://www.hackf.org
X-WR-CALDESC:Events for Windsor Hackforge
REFRESH-INTERVAL;VALUE=DURATION:PT1H
X-Robots-Tag:noindex
X-PUBLISHED-TTL:PT1H
BEGIN:VTIMEZONE
TZID:America/Toronto
BEGIN:DAYLIGHT
TZOFFSETFROM:-0500
TZOFFSETTO:-0400
TZNAME:EDT
DTSTART:20230312T070000
END:DAYLIGHT
BEGIN:STANDARD
TZOFFSETFROM:-0400
TZOFFSETTO:-0500
TZNAME:EST
DTSTART:20231105T060000
END:STANDARD
BEGIN:DAYLIGHT
TZOFFSETFROM:-0500
TZOFFSETTO:-0400
TZNAME:EDT
DTSTART:20240310T070000
END:DAYLIGHT
BEGIN:STANDARD
TZOFFSETFROM:-0400
TZOFFSETTO:-0500
TZNAME:EST
DTSTART:20241103T060000
END:STANDARD
BEGIN:DAYLIGHT
TZOFFSETFROM:-0500
TZOFFSETTO:-0400
TZNAME:EDT
DTSTART:20250309T070000
END:DAYLIGHT
BEGIN:STANDARD
TZOFFSETFROM:-0400
TZOFFSETTO:-0500
TZNAME:EST
DTSTART:20251102T060000
END:STANDARD
END:VTIMEZONE
BEGIN:VEVENT
DTSTART;TZID=America/Toronto:20240812T180000
DTEND;TZID=America/Toronto:20240812T193000
DTSTAMP:20260424T094557
CREATED:20240805T163617Z
LAST-MODIFIED:20240812T154631Z
UID:2291-1723485600-1723491000@www.hackf.org
SUMMARY:CANCELLED: Machine Learning Project: Titanic Dataset
DESCRIPTION:📍 Hackforge HQ (300 Ouellette Ave\, Unit 210)💻👥 Hybrid💲 Free \n\n\n\nThe Titanic disaster of 1912 is one of the most infamous shipwrecks in history\, and it has been the subject of countless studies and analyses. In this event\, we will use the Titanic dataset to demonstrate fundamental data analysis techniques using Python. Participants will learn how to handle\, analyze\, and visualize data using powerful libraries like Pandas\, NumPy\, and Matplotlib\, all within the user-friendly environment of Google Colab. \n\n\n\nThis session is perfect for anyone interested in learning how to leverage Python for data science\, whether you’re a beginner or looking to sharpen your skills. \n\n\n\nKey Takeaways:\n\n\n\n\nData Exploration: Understand the structure and content of the Titanic dataset.\n\n\n\nData Cleaning: Learn how to handle missing values and clean the data for analysis.\n\n\n\nData Visualization: Create insightful visualizations to uncover patterns and insights.\n\n\n\nStatistical Analysis: Perform basic statistical analysis to interpret the data.\n\n\n\nMachine Learning: Build a simple predictive model to determine survival outcomes.\n\n\n\n\nTechnology Used:\n\n\n\n\nGoogle Colab: An online platform that allows you to write and execute Python code in your browser\, making it easy to collaborate and share your work.\n\n\n\nPython Libraries:\n\nPandas: For data manipulation and analysis.\n\n\n\nNumPy: For numerical operations.\n\n\n\nMatplotlib: For data visualization.\n\n\n\nSeaborn: For enhanced statistical graphics.\n\n\n\nScikit-learn: For building predictive models.\n\n\n\n\n\n\nWho Should Attend:\n\n\n\n\nStudents and professionals interested in data science and Python programming.\n\n\n\nBeginners looking to get started with data analysis.\n\n\n\nAnyone curious about the Titanic dataset and its applications in data science.\n\n\n\n\nPrerequisites:\n\n\n\n\nBasic understanding of Python programming.\n\n\n\nNo prior experience with data analysis or machine learning is required.\n\n\n\n\n📅 Monday\, August 12🕞 6:00 – 7:30 PMRegister to attend In-Person in the RSVP box belowRegister to attend Virtually via Zoom.
URL:https://www.hackf.org/event/machine-learning-project-titanic-dataset/
LOCATION:Fogolar Furlan\, 1800 North Service Rd\, Windsor\, Ontario\, N8W 1Y3\, Canada
CATEGORIES:Hybrid
END:VEVENT
END:VCALENDAR